BEGIN:VCALENDAR
VERSION:2.0
PRODID:-//szkolastomatologii.pl//NONSGML kigkonsult.se iCalcreator 2.30.10/
 /
CALSCALE:GREGORIAN
METHOD:PUBLISH
UID:9b19ca20-b8a4-4b3a-9c63-4f5e07269a3d
X-WR-CALNAME:iCagenda
X-WR-CALDESC:Event Management Extension for Joomla!
X-WR-RELCALID:3E26604A-50F4-4449-8B3E-E4F4932D05B5
X-WR-TIMEZONE:UTC
BEGIN:VTIMEZONE
TZID:UTC
END:VTIMEZONE
BEGIN:VEVENT
UID:79839bd6-fbf0-4ec6-86ed-5014f7612701
DTSTAMP:20260420T193335Z
CATEGORIES:TERAPIA STAWÓW SSŻ
CLASS:PUBLIC
DESCRIPTION;ALTREP="CID:<FFFF__=0ABBE548DFE235B58f9e8a93d@coffeebean.com>":
 Temat: Diagnostyka zaburzeń układu ruchowego narządu żucia. Badanie klinic
 zne pacjenta\, rejestracja zwarcia\nProwadzący: dr n. med. Michał Paulo\nC
 ena: 3490 zł\; Punkty edukacyjne: 14 pkt.\nTermin: 26-27 kwietnia 2025 r. 
 (kurs dwudniowy)\nMiejsce: Hotel Lord\, Warszawa\, Al Krakowska 218\nGłówn
 e założenia kursu:\n\n    Jak prawidłowo przeprowadzić wywiad z pacjentem 
 i na co zwracać największą uwagę?\n    Które czynniki wpływają na wystąpie
 nie zaburzeń w układzie ruchowym narządu żucia?\n    Które choroby ogólnou
 strojowe wpływają na plan leczenia?\n    Jak odnaleźć parafunkcje u pacjen
 ta i pomóc mu ograniczyć ich wykonywanie?\n    Które ślady na błonie śluzo
 wej i zębach świadczą o wykonywaniu parafunkcji?\n    Jak odnaleźć wektory
  pochodzenia zębowego obciążające stawy skroniowo-żuchwowe?\n    W jaki sp
 osób prawidłowo badać mięśnie narządu żucia?\n    Różnice pomiędzy problem
 em pochodzenia stawowego\, a mięśniowego.\n    Jak badać stawy skroniowo-ż
 uchwowe.\n    Czym jest terapia manualna?\n    Czy rehabilitacja może pomó
 c w leczeniu i kiedy skierować na nią pacjenta?\n    Kiedy możemy wykorzys
 tać elektroniczny łuk twarzowy i sEMG?\n    Jak poradzić sobie w gabinecie
  z pacjentem z bólem w obrębie URNŻ? - tips and tricks!!!\n\nWarsztaty pra
 ktyczne zakładają przeprowadzenie badania klinicznego układu ruchowego nar
 ządu żucia (badanie stawów\, mięśni\, zwarcia) u pacjenta (drugiego kursan
 ta) pod opieką prowadzącego. Kursanci wykonają również elementy terapii ma
 nualnej i eliminacji punktów spustowych. Zadaniem kursantów jest także wyk
 onanie interwencyjnej szyny w prawidłowym (leczniczym) położeniu żuchwy.\n
 Po kursie każdy z uczestników:\n\nBędzie potrafił przeprowadzić rzetelny i
  pełny wywiad z pacjentem na podstawie autorskiej karty badania.\nPozna po
 dstawowe oraz zaawansowane zasady przeprowadzenia badania klinicznego ukła
 du ruchowego narządu żucia.\nNauczy się prawidłowo badać stawy skroniowo-ż
 uchwowe\, diagnozować stan więzadeł\, torebki stawowej oraz tkanek zakrążk
 owych. Nabędzie również umiejętności rozróżniania rodzaju trzasku z pośród
  8 możliwych przyczyn.\nNauczy się prawidłowo badać mięśnie narządu żucia 
 i rozpoznawać obecność ewentualnych ich patologii.\nPozna wiele praktyczny
 ch wskazówek niezbędnych do rozpoznawania występowania parafunkcji u pacje
 nta i wspierania go w ich ograniczaniu (caoching stomatologiczny).\nNabędz
 ie umiejętności prawidłowego rozpoznawania wektorów obciążających stawy sk
 roniowo żuchwowe\, mięśnie narządu żucia oraz zęby.\nKursant pozna również
  zasady prawidłowego wykonania interwencyjnej szyny.\n\nProgram kursu:\nDz
 ień I - Diagnostyka zaburzeń układu ruchowego narządu żucia\n9.30 - 10.00 
 Rejestracja uczestników\n10.00 - 11.30 Wykład cz. I\n11.30 - 11.45 Przerwa
  kawowa\n11.45 - 13.15 Wykład cz. II\n13.15 - 14.00 Przerwa obiadowa\n14.0
 0 - 15.30 Wykład cz. III plus pokaz praktyczny\n15.30 - 16.00 Przerwa kawo
 wo - techniczna\n16.00 - 18.00 Warsztaty hands-on\n18.00 - 18.30 Podsumowa
 nie I dnia kursu\nDzień II - Badanie kliniczne pacjenta\, rejestracja zwar
 cia\n10.00 - 11.30 Wykład cz. I\n11.30 - 11.45 Przerwa kawowa\n11.45 - 13.
 15 Wykład cz. II\n13.15 - 14.00 Przerwa obiadowa\n14.00 - 15.30 Wykład cz.
  III plus pokaz praktyczny\n15.30 - 16.00 Przerwa kawowo - techniczna\n16.
 00 - 18.00 Warsztaty hands-on\n18.00 - 18.30 Test\, wręczenie certyfikatów
 \, podsumowanie\n\nKurs został zgłoszony do Okręgowej Izby lekarskiej. Każ
 dy kursant otrzyma certyfikat oraz 14 punktów edukacyjnych.\nKażdy z kursa
 ntów otrzymuje skrypt\, który jest skrótem wykładu i przedrukiem slajdów.
 \nKażdy z kursantów otrzymuje również wzór autorskiej karty badania stomat
 ologicznego oraz diagnostyki zaburzeń układu ruchowego narządu żucia.\n\nC
 ena za kurs nie obejmuje noclegu. Nocleg należy zarezerwować indywidualnie
  w hotelu (tel. 22 574 20 00).\nInformacje i zapisy:Aleksandra Kowalińska\
 , +48 509 912 963\, prenumerata@spsmedia.pl\nPŁATNOŚCI:Prosimy kwotę za sz
 kolenie wpłacić na konto:31 1090 1870 0000 0001 3335 2731SPS-Piotr Szymańs
 kiZ. Modzelewskiego 67/402-679 Warszawa\nNa podstawie otrzymanej płatności
  otrzymają Państwo fakturę na maila\, z którego nastąpiła rejestracja na s
 zkolenie.\n 
DTSTART:20250426T100000Z
DTEND:20250426T180000Z
GEO:+52.186707;+20.955709
LOCATION:Warszawa\, Hotel Lord ****\; al. Krakowska 218
ORGANIZER;CN=:prenumerata@spsmedia.pl
SEQUENCE:1
SUMMARY:Diagnostyka zaburzeń układu ruchowego narządu żucia. Badanie klinic
 zne pacjenta\, rejestracja zwarcia edycja #3
TRANSP:OPAQUE
URL:https://szkolastomatologii.pl/25-diagnostyka-zaburzen-ukladu-ruchowego-
 narzadu-zucia-badanie-kliniczne-pacjenta-rejestracja-zwarcia
END:VEVENT
END:VCALENDAR
