BEGIN:VCALENDAR
VERSION:2.0
PRODID:-//szkolastomatologii.pl//NONSGML kigkonsult.se iCalcreator 2.30.10/
 /
CALSCALE:GREGORIAN
METHOD:PUBLISH
UID:559cdb45-2fb2-4c27-914a-d085d1e4fde7
X-WR-CALNAME:iCagenda
X-WR-CALDESC:Event Management Extension for Joomla!
X-WR-RELCALID:3E26604A-50F4-4449-8B3E-E4F4932D05B5
X-WR-TIMEZONE:UTC
BEGIN:VTIMEZONE
TZID:UTC
END:VTIMEZONE
BEGIN:VEVENT
UID:ba19813e-b39e-403f-8ea3-b8adf4083faa
DTSTAMP:20260421T142604Z
CATEGORIES:IMPLANTOPROTETYKA
CLASS:PUBLIC
DESCRIPTION;ALTREP="CID:<FFFF__=0ABBE548DFE235B58f9e8a93d@coffeebean.com>":
 Temat: Nowoczesne sposoby zarządzania kością. Omówienie różnych technik\, 
 w tym procesu osteodensyfikacjioraz augmentacji z wykorzystaniem cementów 
 kostnych.\nTermin: 9 grudnia 2023 r.\nProwadzący: lek. dent. Marcel Firlej
 \nCena: 2900 zł\nMiejsce: Warszawa\, Hotel Lord ****\; al. Krakowska 218.
 \n\nKurs przeznaczony jest dla implantologów\, którzy chcą w łatwy\, szybk
 i i przewidywalny sposób zarządzać tkanką kostną w przypadkach gdy ilość k
 ości do przeprowadzenia poprawnej implantacji jest niewystarczająca.\n \nS
 zczegółowy plan kursu:\n10:00-14:00\n1. Omówienie różnych technik instrume
 ntacji osteotomii w przypadku standardowych nawiertów i metod ekspansyjnyc
 h.\n2. Jak zaprojektować cięcie płata w zależności od przypadku i planowan
 ych metod zwiększenia objętości kości.\n3. Jak zarządzać płatem i jego nap
 ięciem podczas zabiegów augumentacji kości\n4. Użycie cementu kostnego z z
 astosowaniem poprawnych protokołów i technik.\n5. Wiedza jak zachować kość
  i przeprowadzić jej plastyczną ekspansję.\n6. Zrozumienie zasady gojenia 
 przy zastosowaniu różnych technik regeneracji kości i spodziewane rezultat
 y.\n7. Omówienie różnic szycia płatów w zależności od zastosowanych techni
 k regeneracji kości (szycie z napięciem płata i szycie bez napięcia)\n8. O
 mówienie konieczności użycia membran - opisanie sytuacji kiedy są one niez
 będne\, kiedy są opcjonalne a kiedy są niewskazane.\n \n14:00-14:30 Lunch 
 \n \n14:30-18:00\n9. Nauka zarządzania prostymi i skomplikowanymi przypadk
 ami augumentacji w szybki i przewidywalny sposób.\n10. Które przypadki aug
 umentacji są przewidywalne a które mogą dać nieprzewidywalne efekty.\n11. 
 Przedstawienie metod regeneracji kości za pomocą cementów kostnych gdzie s
 zczelne zaszycie rany nie jest obowiązkowe.12. Zrozumienie zasad naukowych
  procesu osteodensyfikacji\n13. Cześć pokazowa: \n \nPoznanie Poradnika De
 nsyfikacji w różnych systemach implantologicznych.Subkrestalna augmentacja
  kością autogenną w zabiegu sinus-liftu\, boczna ekspansja wyrostka\, impl
 antacja natychmiastowa\, zabiegi ekspansji ze sterowną regeneracją kości.
 \nCena 2900 zł\n\nO WYKŁADOWCY\nLek. dent. Marcel Firlej\nStudiował na Uni
 wersytecie Medycznym w Poznaniu\, który ukończył w 2013 roku. Obecnie prac
 uje w prywatnej klinice oraz w Klinice Wad Rozwojowych Twarzy na Uniwersyt
 ecie\, gdzie wykonuje doktorat. Jest aktywnym wydawcą i badaczem kliniczny
 m. Specjalizuje się w implantologii\, stomatologii cyfrowej\, zaburzeniach
  stawu skroniowo-żuchwowego\, kompleksowych rehabilitacjach protetycznych 
 oraz stomatologii estetycznej.\n \n \n \n \n \nCena za kurs nie obejmuje n
 oclegu. Nocleg należy zarezerwować indywidualnie w hotelu (tel. 22 574 20 
 00). Na hasło Zjazd Lekarzy Dentystów hotel udziela zniżki na noclegi.\nOp
 łatę za kurs proszę wnieść na podstawie faktury proforma\, którą Państwo o
 trzymają po wypełnieniu zgłoszenia. Konto\, na które należy wpłacić należn
 ość za kurs to:\nSPS - Piotr Szymański numer: 31 1090 1870 0000 0001 3335 
 2731\nSzczegółowych informacji udziela Aleksandra Kowalińska tel. +48 509 
 912 963  w godz. 9:00-16:00.
DTSTART:20231209T100000Z
DTEND:20231209T180000Z
GEO:+52.186707;+20.955709
LOCATION:Miejsce: Warszawa\, Hotel Lord ****\; al. Krakowska 218.
ORGANIZER;CN=:prenumerata@spsmedia.pl
SEQUENCE:1
SUMMARY:Nowoczesne sposoby zarządzania kością. Omówienie różnych technik\, 
 w tym procesu osteodensyfikacji oraz augmentacji z wykorzystaniem cementów
  kostnych
TRANSP:OPAQUE
URL:https://szkolastomatologii.pl/historia-szkolen/10-nowoczesne-sposoby-za
 rzadzania-koscia-omowienie-roznych-technik-w-tym-procesu-osteodensyfikacji
 -oraz-augmentacji-z-wykorzystaniem-cementow-kostnych
END:VEVENT
END:VCALENDAR
