BEGIN:VCALENDAR
VERSION:2.0
PRODID:-//szkolastomatologii.pl//NONSGML kigkonsult.se iCalcreator 2.30.10/
 /
CALSCALE:GREGORIAN
METHOD:PUBLISH
UID:743af54a-dab2-4c41-8e98-b31797e348c4
X-WR-CALNAME:iCagenda
X-WR-CALDESC:Event Management Extension for Joomla!
X-WR-RELCALID:3E26604A-50F4-4449-8B3E-E4F4932D05B5
X-WR-TIMEZONE:UTC
BEGIN:VTIMEZONE
TZID:UTC
END:VTIMEZONE
BEGIN:VEVENT
UID:44a1ca07-7f52-4fe7-a1c3-41e345a61e50
DTSTAMP:20260421T141855Z
CATEGORIES:RTG
CLASS:PUBLIC
DESCRIPTION;ALTREP="CID:<FFFF__=0ABBE548DFE235B58f9e8a93d@coffeebean.com>":
 Wykładowca: Prof. Raphael Olszewski\nForma: wykład + analiza przypadków kl
 inicznych\nTermin: 8.11.2025\, 9.00 - 17.00\nCena: 1850 zł\nMiejsce szkole
 nia: Łódź\, Hotel Nowa Gdynia (www.hotelnowagdynia.pl)\n Tomografia stożko
 wa (CBCT) jest dziś jednym z najważniejszych narzędzi współczesnej diagnos
 tyki stomatologicznej. Prawidłowa interpretacja obrazów 3D pozwala nie tyl
 ko zwiększyć skuteczność leczenia\, ale także podnieść jego bezpieczeństwo
  i precyzję w każdej specjalizacji – od endodoncji po chirurgię rekonstruk
 cyjną.\nTo szkolenie zostało zaprojektowane z myślą o lekarzach\, którzy o
 czekują najwyższego poziomu merytorycznego i chcą korzystać z CBCT w sposó
 b w pełni świadomy\, zgodny z zasadami radiologicznego bezpieczeństwa i mi
 ędzynarodowymi wytycznymi diagnostycznymi.\nPod okiem profesora Raphaela O
 lszewskiego\, jednego z czołowych ekspertów w dziedzinie obrazowania 3D i 
 chirurgii szczękowo-twarzowej\, uczestnicy przejdą przez wszystkie etapy p
 racy z CBCT – od zasad fizycznych\, przez interpretację obrazów\, po anali
 zę złożonych przypadków klinicznych.\nCel szkolenia\nCelem kursu jest komp
 leksowe zapoznanie uczestników z zasadami pracy z tomografią stożkową (CBC
 T) w codziennej praktyce stomatologicznej. Uczestnicy poznają nie tylko po
 dstawy techniczne funkcjonowania aparatu\, lecz także aspekty bezpieczeńst
 wa radiologicznego\, interpretacji obrazów oraz diagnostyki różnorodnych p
 rzypadków klinicznych.\nProgram szkolenia\n09:00 – 10:30Wprowadzenie do to
 mografii CBCT\n\nZasady działania aparatu CBCT – parametry ekspozycji (kVp
 \, mAs)\nDobór pól widzenia (FOV) do rodzaju badania\nOchrona radiologiczn
 a pacjenta i operatora\nZasada ALARA – minimalizacja dawek promieniowania
 \nRekomendacje i wytyczne europejskie dotyczące stosowania CBCT w stomatol
 ogii\n\n10:30 – 11:00Przerwa kawowa\n11:00 – 12:30Podstawy interpretacji o
 brazów CBCT\n\nBudowa i składnia obrazów klinicznych\nInformacje początkow
 e obrazów klinicznych: powtarzających się elementów obrazu możliwie istnie
 jących\, a nie związanych z tematem badania jak aparaty\, metal\, wypełnie
 nia\, miejsca gojenia po usunięciu zębów\, etc.\nJak poprawnie oceniać jak
 ość i wiarygodność uzyskanych danych\n\n12:30 – 13:30Przerwa na lunch\n13:
 30 – 15:00Zastosowanie CBCT w diagnostyce stomatologicznej – część I\n\nDi
 agnostyka zębów zatrzymanych (ósemki\, kły\, inne)\nHipodoncja i hiperdonc
 ja – znaczenie obrazowania 3D w planowaniu leczenia\n\n15:00 – 15:30Przerw
 a kawowa\n15:30 – 17:00Zastosowanie CBCT w diagnostyce stomatologicznej – 
 część II\n\nMakrodoncja\, geminacja i fuzja – różnicowanie morfologicznych
  nieprawidłowości zębów\nPerły szkliwne\, taurodontyzm\, dilaceracja i ano
 malie korzeni\nDiagnostyka resorpcji wewnętrznej i zewnętrznej\nZłamania k
 orzeni i zmiany okołowierzchołkowe w obrazowaniu 3D\n\nAdresaci szkolenia
 \nSzkolenie jest skierowane do lekarzy dentystów oraz radiologów stomatolo
 gicznych\, którzy chcą w sposób świadomy i zgodny z aktualnymi standardami
  wykorzystać tomografię CBCT w swojej praktyce klinicznej.\nKorzyści dla u
 czestników\n\nZrozumienie zasad działania i bezpiecznego użytkowania CBCT
 \nUmiejętność interpretacji podstawowych i zaawansowanych obrazów\nRozpozn
 awanie artefaktów i unikanie błędów diagnostycznych\nPoznanie klinicznych 
 wskazań do badań CBCT w różnych specjalizacjach stomatologicznych\n\n \nWy
 kładowca: \nProf. Raphael Olszewski\, DDS\, MD\, PhDProfesor chirurgii sto
 matologicznej i szczękowo-twarzowej Uniwersytetu Katolickiego w Louvain (U
 CLouvain\, Belgia) oraz Uniwersytetu Mikołaja Kopernika w Toruniu\, Colleg
 ium Medicum w Bydgoszczy. Absolwent i doktor UCLouvain\, habilitowany w Co
 llegium Medicum UJ. Kierownik Kliniki Chirurgii Stomatologicznej i Szczęko
 wo-Twarzowej Cliniques universitaires Saint Luc w Brukseli oraz Laboratori
 um OMFS Lab. Odbył staże w Harvard Medical School\, Texas Health Medical C
 enter i USC Los Angeles. Autor ponad 150 publikacji\, patentu EPO i liczny
 ch projektów badawczych z zakresu druku 3D\, chirurgii rekonstrukcyjnej or
 az sztucznej inteligencji w diagnostyce stomatologicznej. Editor-in-Chief 
 czasopisma NEMESIS\, laureat nagród Académie Royale de Médecine de Belgiqu
 e i UCLouvain Digital Year Award.\n \nPatroni kursu:\n             \nCena 
 za kurs nie obejmuje noclegu. Nocleg należy zarezerwować indywidualnie w h
 otelu (tel. 22 574 20 00).\nInformacje i zapisy:Aleksandra Kowalińska\, +4
 8 509 912 963\, prenumerata@spsmedia.pl\nPŁATNOŚCI:Prosimy kwotę za szkole
 nie wpłacić na konto:31 1090 1870 0000 0001 3335 2731SPS-Piotr SzymańskiZ.
  Modzelewskiego 67/402-679 Warszawa\nNa podstawie otrzymanej płatności otr
 zymają Państwo fakturę na maila\, z którego nastąpiła rejestracja na szkol
 enie.
DTSTART:20251108T090000Z
DTEND:20251108T170000Z
GEO:+51.83131;+19.417715
LOCATION:Hotel Nowa Gdynia\; Sosnowa 1\, 95-100 Zgierz
ORGANIZER;CN=:prenumerata@spsmedia.pl
SEQUENCE:1
SUMMARY:Szkolenie dla stomatologów: CBCT w praktyce klinicznej – diagnostyk
 a\, bezpieczeństwo i interpretacja obrazów
TRANSP:OPAQUE
URL:https://szkolastomatologii.pl/historia-szkolen/103-cbct-w-praktyce-klin
 icznej
END:VEVENT
END:VCALENDAR
