BEGIN:VCALENDAR
VERSION:2.0
PRODID:-//szkolastomatologii.pl//NONSGML kigkonsult.se iCalcreator 2.30.10/
 /
CALSCALE:GREGORIAN
METHOD:PUBLISH
UID:c2feef3b-244c-4c96-b3c9-743c090d46ac
X-WR-CALNAME:iCagenda
X-WR-CALDESC:Event Management Extension for Joomla!
X-WR-RELCALID:3E26604A-50F4-4449-8B3E-E4F4932D05B5
X-WR-TIMEZONE:UTC
BEGIN:VTIMEZONE
TZID:UTC
END:VTIMEZONE
BEGIN:VEVENT
UID:db7fa100-ef7c-4af9-bfb4-9c5a7cf60efa
DTSTAMP:20260421T123509Z
CATEGORIES:PRACA Z POWIĘKSZENIEM
CLASS:PUBLIC
DESCRIPTION;ALTREP="CID:<FFFF__=0ABBE548DFE235B58f9e8a93d@coffeebean.com>":
 \nTemat: Pierwszy kontakt z powiększeniem zabiegowym w stomatologii - pods
 tawy pracy z mikroskopem i lupami zabiegowymi\nProwadzący: Cyprian Seliga
 \nCena: 1260 zł\;\nPunkty edukacyjne: 6 pkt.\nGodziny zajęć: 10.00 - 17.30
 \nMiejsce: Hotel Nowa Gdynia\, Zgierz k. Łodzi ul. Sosnowa 1 - https://www
 .hotelnowagdynia.pl/\n\nMikro Start: Pierwszy kontakt z powiększeniem zabi
 egowym w stomatologii - podstawy pracy z mikroskopem i lupami zabiegowymi.
  Szkolenie teoretyczne oraz warsztat praktyczny z wykorzystaniem lup zabie
 gowych.\nSzkolenie dedykowane lekarzom stomatologom\, planującym wdrożyć d
 o swojej praktyki lupy zabiegowe lub mikroskop zabiegowy w zakresie podsta
 wowym.\nCelem szkolenia Mikro Start jest wprowadzenie uczestników w tematy
 kę pracy w powiększeniu i przygotowanie do samodzielnego wykorzystywania l
 up i mikroskopów zabiegowych w gabinecie stomatologicznym.\nPlan zajęć:\n1
 0.00 – 11.30 Wykład teoretyczny „Podstawy pracy w powiększeniu zabiegowym 
 w stomatologii” (cz. 1)\n\nzastosowanie powiększenia w stomatologii\nzależ
 ności optyczne\nspecyfika kontroli ostrości obrazu\nergonomia pracy w powi
 ększeniu – korelacja: lekarz\, asysta\, urządzenie\nopcje foto i wideo w m
 ikroskopii zabiegowej\nkonstrukcja\, charakterystyka i specyfika pracy z m
 ikroskopem zabiegowym\nkonstrukcja\, charakterystyka i specyfika pracy z l
 upami zabiegowymi\n\n11.30 – 12.00 przerwa kawowa\n12.00 – 13.00  Wykład t
 eoretyczny „Podstawy pracy w powiększeniu zabiegowym w stomatologii” (cz. 
 2)\n13.00 – 14.00 lunch\n14.00 – 17.30 Warsztat praktyczny – lupy zabiegow
 e (z krótkimi przerwami kawowymi uzależnionymi od indywidualnego toku prac
 y uczestników)\n\nindywidualny dobór lup (indywidualne badanie rozstawu oc
 zu i dobór ogniskowej)\ntrening kontroli ostrości obrazu (wg poznanych zas
 ad optycznych)\ntreningu nawigacji w powiększeniu w polu zabiegowym (praca
  z lusterkiem i zgłębnikiem oraz praca z lusterkiem i pilnikiem ręcznym\, 
 kontrola ostrości obrazu w lusterku\, korelacja różnych punktów pola zabie
 gowego z lusterkiem i zgłębnikiem)\npraktyczne przedstawienie rożnych rozw
 iązań optycznych i konstrukcyjnych w lupach zabiegowych z dodatkowym oświe
 tleniem\nMIKROSKOP ZABIEGOWY – podstawowe ustawienia\, poglądowa obserwacj
 a sztucznego pola zabiegowe\, proste ćwiczenia nawigacyjne (każdy uczestni
 k ok. 20 min)\n\n\nNa szkoleniu Mikro Start:\n\npoznasz budowę i specyfikę
  techniczną lup i mikroskopów zabiegowych dzięki czemu będziesz mógł w sam
 odzielnie obsługiwać urządzenia do pracy w powiększeniu oraz będziesz w st
 anie określić swoje potrzeby sprzętowe i w przyszłości dokonać optymalnych
  decyzji zakupowych\;\npoznasz zasad pracy w powiększeniu oraz zależności 
 optyczne umożliwiające samodzielną pracę z lupami zabiegowymi i mikroskope
 m zabiegowym w podstawowym zakresie\;\npoznasz zasady ergonomii pracy z mi
 kroskopem i lupami zabiegowymi oraz sposoby instalacji mikroskopów w gabin
 ecie pozwalające na dobór optymalnych rozwiązań do swojej praktyki\;\nweźm
 iesz udział w praktycznych warsztatach pracy z lupami zabiegowymi obejmują
 cymi indywidualny dobór optyki oraz podstawowy trening nawigacji w powięks
 zeniu w polu zabiegowym z wykorzystaniem lusterka stomatologicznego oraz n
 arzędzi ręcznych\, dzięki czemu będziesz mógł samodzielnie wykonywać zabie
 gi z wykorzystaniem lup stomatologicznych w swoim gabinecie.\n\n\nWykładow
 ca: Cyprian Seliga\nOd 2005 roku związany z produkcją i sprzedażą urządzeń
  do pracy w powiększeniu. Autor i wykładowca cyklu szkoleń dla studentów s
 tomatologii MicroJUMP. Trener szkoleń grupowych i indywidualnych z pracy w
  powiększeniu w stomatologii. Autor specjalistycznych publikacji dotyczący
 ch urządzeń do pracy w powiększeniu i ich zastosowań. Twórca i współtwórca
  znanych brandów sprzętowych wykorzystywanych w gabinetach stomatologiczny
 ch.\n\nPatronat: \nDental Machines - www.dentalmachines.pl\n\nZapisy i inf
 ormacje:\nAleksandra Kowalińska\, +48 509 912 963\, prenumerata@spsmedia.p
 l\nPŁATNOŚCI:\nProsimy kwotę za szkolenie wpłacić na konto:\n31 1090 1870 
 0000 0001 3335 2731\nSPS-Piotr Szymański\nZ. Modzelewskiego 67/4\n02-679 W
 arszawa\n \nNa podstawie otrzymanej płatności otrzymają Państwo fakturę na
  maila\, z którego nastąpiła rejestracja na szkolenie.\n
DTSTART:20260217T100000Z
DTEND:20260217T180000Z
GEO:+51.83131;+19.417715
LOCATION:Zgierz k. Łodzi ul. Sosnowa 1
ORGANIZER;CN=:szkolenia@szkolastomatologii.pl
SEQUENCE:1
SUMMARY:Pierwszy kontakt z powiększeniem zabiegowym w stomatologii - podsta
 wy pracy z mikroskopem i lupami zabiegowymi - edycja #7
TRANSP:OPAQUE
URL:https://szkolastomatologii.pl/historia-szkolen/106-powiekszenie-zabiego
 we-luty2026
END:VEVENT
END:VCALENDAR
