BEGIN:VCALENDAR
VERSION:2.0
PRODID:-//szkolastomatologii.pl//NONSGML kigkonsult.se iCalcreator 2.30.10/
 /
CALSCALE:GREGORIAN
METHOD:PUBLISH
UID:9e3a891b-6cca-462f-8524-f46fad6478bd
X-WR-CALNAME:iCagenda
X-WR-CALDESC:Event Management Extension for Joomla!
X-WR-RELCALID:3E26604A-50F4-4449-8B3E-E4F4932D05B5
X-WR-TIMEZONE:UTC
BEGIN:VTIMEZONE
TZID:UTC
END:VTIMEZONE
BEGIN:VEVENT
UID:f4e34c40-92e1-4e58-9a56-ca68656ee007
DTSTAMP:20260421T123422Z
CATEGORIES:ODBUDOWA ESTETYCZNA
CLASS:PUBLIC
DESCRIPTION;ALTREP="CID:<FFFF__=0ABBE548DFE235B58f9e8a93d@coffeebean.com>":
 Prowadzący: lek. dent. Krzysztof Polanowski\nTermin: Piątek\, 5 grudnia 20
 25 r. 10.00 - 17.00 Kurs jednodniowy\nMiejsce:  Hotel Lord\, Warszawa\, Al
 . Krakowska 218\nPunkty edukacyjne: 7 pkt.\nCena kursu: 1220 zł\nSzczegóło
 wy plan zajęć\n9.30 – 10.00 Rejestracja \, poranna kawa\n10.00 – 12.30 Czę
 ść wykładowa: \nTechniki adhezyjne i wykorzystanie materiałów kompozytowyc
 h \, glasionomerowych w rekonstrukcjach typu bezpośredniego\n\nzasady adhe
 zji\nzastosowanie systemów adhezyjnych\nwykorzystanie materiałów \, techni
 k\, sprzętu  zwiększających siłę adhezji\nmateriały kompozytowe nanohybryd
 owe\, mikrofilne i hybrydowe – przeznaczenie \, wady i zalety\nzasady wyko
 nywania licowania techniką bezpośrednią\nrola kompozytów typu flow\, opaqu
 ery i podbarwiacze\nzastosowanie silanu\n\n12. 30 - 13.30 Lunch\n13.30 - 1
 8.00 Część warsztatowa\nLicowanie techniką bezpośrednią\n\ninstrumentarium
 \nzasady preparacji\ntechnika warstwowa z zastosowaniem kompozytów hybrydo
 wych/nano/microfilnych\nsposoby użycia opaquerów i podbarwiaczy\nprzejście
  z koloru A4 na A1 w zakresie 1 mm materiału kryjącego\ntechnika polerowan
 ia\n\n\nSzczegółowych informacji udziela Aleksandra Kowalińska tel. +48 50
 9 912 963  w godz. 9:00-16:00.\nCena za kurs nie obejmuje noclegu. Nocleg 
 należy zarezerwować indywidualnie w hotelu (tel. 22 574 20 00). Na hasło Z
 jazd Lekarzy Dentystów hotel udziela zniżki na noclegi.\nOpłatę za kurs pr
 oszę wnieść na podstawie faktury proforma\, którą Państwo otrzymają po wyp
 ełnieniu zgłoszenia. Konto\, na które należy wpłacić należność za kurs to:
 \nSPS - Piotr Szymański numer: 31 1090 1870 0000 0001 3335 2731\n\nPartner
  szkolenia:\n
DTSTART:20251205T093000Z
DTEND:20251205T170000Z
GEO:00;0
LOCATION:Miejsce: Warszawa\, Hotel Lord ****\; al. Krakowska 218.
ORGANIZER;CN=:prenumerata@spsmedia.pl
SEQUENCE:1
SUMMARY:Warsztat: Licowanie techniką bezpośrednią
TRANSP:OPAQUE
URL:https://szkolastomatologii.pl/historia-szkolen/11-warsztat-licowanie-te
 chnika-bezposrednia-25
END:VEVENT
END:VCALENDAR
