BEGIN:VCALENDAR
VERSION:2.0
PRODID:-//szkolastomatologii.pl//NONSGML kigkonsult.se iCalcreator 2.30.10/
 /
CALSCALE:GREGORIAN
METHOD:PUBLISH
UID:490e1d6f-53ea-47cf-a87e-870ae485628c
X-WR-CALNAME:iCagenda
X-WR-CALDESC:Event Management Extension for Joomla!
X-WR-RELCALID:3E26604A-50F4-4449-8B3E-E4F4932D05B5
X-WR-TIMEZONE:UTC
BEGIN:VTIMEZONE
TZID:UTC
END:VTIMEZONE
BEGIN:VEVENT
UID:2b81eba4-eee7-451c-9c74-76e9c0bbb6d8
DTSTAMP:20260421T122635Z
CATEGORIES:Krakdent
CLASS:PUBLIC
DESCRIPTION;ALTREP="CID:<FFFF__=0ABBE548DFE235B58f9e8a93d@coffeebean.com>":
 Temat: Jak wykonać estetyczne\, kompozytowe odbudowy w zębach przednich?\n
 Wykładowca: dr n. med. Michał Paulo\nPunkty edukacyjne: 2 pkt.\nCena: 299 
 zł&nbsp\;\nTermin: 18 kwietnia 2026 r. g. 12:00 - 14:00\nMiejsce i termin:
  Targi Krakdent 2026 - sala seminaryjna Lwów C&nbsp\;\n\nAgenda wykładu:\n
 Jak wykonać estetyczne\, kompozytowe odbudowy w zębach przednich?\n\n\nmet
 ody izolacji zębów przednich\;\npreparacja i przygotowanie ubytku\;\njak o
 dbudować zęby z ubytkami III i IV klasy?\njak odtworzyć mikro i makro stru
 kturę zęba.\n\n\n&nbsp\;\n\n\nOpłatę za kurs proszę wnieść na podstawie fa
 ktury proforma\, którą Państwo otrzymają po wypełnieniu zgłoszenia. Konto\
 , na które należy wpłacić należność za kurs to:\nSPS - Piotr Szymański num
 er: 31 1090 1870 0000 0001 3335 2731\nSzczegółowych informacji udziela Ale
 ksandra Kowalińska tel. +48 509 912 963 &nbsp\;w godz. 9:00-16:00.\nCena z
 a kurs nie obejmuje noclegu.&nbsp\;\n
DTSTART:20260418T120000Z
DTEND:20260418T140000Z
GEO:+50.059734;+20.009449
LOCATION:EXPO Kraków\, Galicyjska 9\, 31-586 Kraków
ORGANIZER;CN=:prenumerata@spsmedia.pl
SEQUENCE:1
SUMMARY:Jak wykonać estetyczne\, kompozytowe odbudowy w zębach przednich?
TRANSP:OPAQUE
URL:https://szkolastomatologii.pl/historia-szkolen/115-odbudowa-krakdent-20
 26
END:VEVENT
END:VCALENDAR
