BEGIN:VCALENDAR
VERSION:2.0
PRODID:-//szkolastomatologii.pl//NONSGML kigkonsult.se iCalcreator 2.30.10/
 /
CALSCALE:GREGORIAN
METHOD:PUBLISH
UID:7db6b76f-28d3-44ae-9e14-4bd1cfff0538
X-WR-CALNAME:iCagenda
X-WR-CALDESC:Event Management Extension for Joomla!
X-WR-RELCALID:3E26604A-50F4-4449-8B3E-E4F4932D05B5
X-WR-TIMEZONE:UTC
BEGIN:VTIMEZONE
TZID:UTC
END:VTIMEZONE
BEGIN:VEVENT
UID:8ae3baeb-dd61-454e-b8d0-fc9e6fd78dfe
DTSTAMP:20260421T142233Z
CATEGORIES:Krakdent
CLASS:PUBLIC
DESCRIPTION;ALTREP="CID:<FFFF__=0ABBE548DFE235B58f9e8a93d@coffeebean.com>":
 Temat: Stabilizacja zwarcia techniką flow injection. Weryfikacja pacjentów
  na podstawie koncepcji Rocabado \nPacjent z utraconą wysokością zwarcia –
  zasady minimalnie inwazyjnej stabilizacji protetycznej z zastosowaniem 'f
 low iniection' w zgodzie z harmonią w okluzji funkcjonalnej oraz stabilnoś
 cią czaszkowo-kregowo-żuchwową w ujęciu koncepcji Rocabado\nProwadzący: le
 k. dent. Krzysztof Adamowicz.\nPunkty edukacyjne: 2 pkt.\;\nCena: 290 zł\n
 Miejsce i termin: Targi Krakdent 2024 - sala seminaryjna Lwów B\, 13 kwiet
 nia godzina 15.15-17.00\n\nOpis i plan szkolenia:\nPacjent z utraconą wyso
 kością zwarcia – zasady minimalnie inwazyjnej stabilizacji protetycznej z 
 zastosowaniem 'flow iniection' w zgodzie z harmonią w okluzji funkcjonalne
 j oraz stabilnością czaszkowo-kregowo-żuchwową w ujęciu koncepcji Rocabado
 \nPacjent z utraconą wysokością zwarcia. Jak go rozpoznamy i w jakich sytu
 acjach powinniśmy zoptymalizować jego zwarcie nawykowe?\n\nCo to jest harm
 onia w okluzji\;\nCo to jest stabilizacja kręgowo-czaszkowa wg koncepcji R
 ocabado\;\nCo to jest stabilność czaszkowo-zuchowa\;\nWpływ relacji centra
 lnej na dysfunkcje kręgosłupa\;\nKiedy możemy optymalizować zwarcie nawyko
 we metoda neuromięśniową\;\nMetoda neuromięsniowej rejestracji zwarcia-do 
 czego możemy ja wykorzystać\;\nZasady odbudowy flow iniection u pacjentów 
 z dysfunkcja-wskazania i procedura krok po kroku.\n\n\n \n\nlek. dent. Krz
 ysztof Adamowicz\n\n \n\nLekarz dentysta Krzysztof Adamowicz ukończył Pomo
 rską Akademię Medyczną w 1988 roku. W 1996 roku po wykładzie prof. Marii K
 leinrok rozpoczęła się jego przygoda z dysfunkcjami układu żucia człowieka
  – która trwa nieprzerwanie do dziś. \nOsobowość Pani Profesor i jej dorob
 ek naukowy w ówczesnym czasie wywarły na doktorze tak olbrzymie wrażenie\,
  że cała jego kariera zawodowa podporządkowana została diagnostyce i lecze
 niu pacjentów z dysfunkcją. Krzysztof Adamowicz w latach 2009-2011 uczestn
 iczył w wielu szkoleniach ze stomatologii neuromięśniowej prowadzonych min
  m.in. przez Dr Michaela Myasaki w tym elitarnych szkoleń w Kolonii - Kevi
 n Pearls .\nW latach 2005-2010 był czynnym członkiem Towarzystwa Dysfunkcj
 i Narządu Żucia. Brał udział w wielu szkoleniach m.in. prof. Barona\, dr D
 orobka\, dr Ketzchnera\, prof. Schillera i prof. Okesona. Gruntownie pozna
 ł koncepcję Slavicka w 2010 roku\, Koisa w 2012 roku\, Dawsona w 2013 roku
  oraz Gerbera w 2018 roku. Od roku 2018 przeszedł szereg szkoleń w Biberac
 h oraz indywidualne szkolenia w Polsce z pracy unikatowym urządzeniem Free
 corder Bluefox. \nOd 2010 roku jest konsultantem Myotronics w Polsce\, a o
 d 2023 konsultantem z ramienia Orangedental. W 2023 uczestniczył w szkolen
 iach prof. Rockabado . Wygłosił kilkadziesiąt wykładów na głównych kongres
 ach stomatologicznych w Polsce - w Krakowie i Poznaniu\, Łodzi oraz Wrocła
 wiu. Jest autorem kilkudziesięciu artykułów publikowanych w Nowym Gabineci
 e Stomatologicznym. \nPrzez szereg lat współpracował m.in. z dr n.med. Ann
 a Dubojską\, dr n.med. Jackiem Ciesielskim\, dr n.med. Michałem Paulo\, a 
 obecnie z Prof. Haliną Ey- Chmielewską. Miał przyjemność prowadzić wykłady
  wspólnie z prof. Marią Kleinrok\, prof. Teresą Sierpińską oraz z lekarzam
 i ze szkoły Brocka Rondeau. Opracował cykl 10 szkoleń w ramach Szkoły Oklu
 zji – dostępnych obecnie on-line i corocznie uaktualnianych w oparciu o Ba
 se Evident Dentistry. Kilka razy w roku prowadzi warsztaty praktyczne dla 
 lekarzy o różnym stopniu zaawansowania z diagnostyki i leczenia pacjentów 
 z dysfunkcją układu żucia oraz corocznie wykłady w ramach Krakdent\, Spotk
 ań Stomatologów Wojskowych w Juracie oraz grudniowego Zjazdu Lekarzy Denty
 stów w Warszawie. \nOd 2010 wykonuje ok 10-14 kompleksowych odbudów protet
 ycznych rocznie u pacjentów z dysfunkcją w ramach stabilizacji Cr .W 2022 
 włączył do swoich procedur rehabilitację protetyczną opartą na protokole f
 low injection. Od wielu lat wykorzystuje cyfrowe systemy planowania uśmiec
 hu min DSS\, Smylist a obecnie Smilecloud. Jako jeden z dwu stomatologów w
  Polsce wykonuje aparaty okluzyjne stosowane w asymetriach czynnościowych 
 układu żucia\n\n \nOpłatę za kurs proszę wnieść na podstawie faktury profo
 rma\, którą Państwo otrzymają po wypełnieniu zgłoszenia. Konto\, na które 
 należy wpłacić należność za kurs to:\nSPS - Piotr Szymański numer: 31 1090
  1870 0000 0001 3335 2731\nSzczegółowych informacji udziela Aleksandra Kow
 alińska tel. +48 509 912 963  w godz. 9:00-16:00.
DTSTART:20240413T151500Z
DTEND:20240413T170000Z
GEO:+50.059734;+20.009449
LOCATION:Galicyjska 9\, Kraków
ORGANIZER;CN=:prenumerata@spsmedia.pl
SEQUENCE:1
SUMMARY:Stabilizacja zwarcia techniką flow injection. Weryfikacja pacjentów
  na podstawie koncepcji Rocabado
TRANSP:OPAQUE
URL:https://szkolastomatologii.pl/historia-szkolen/19-pacjent-z-utracona-wy
 sokoscia-zwarcia
END:VEVENT
END:VCALENDAR
