BEGIN:VCALENDAR
VERSION:2.0
PRODID:-//szkolastomatologii.pl//NONSGML kigkonsult.se iCalcreator 2.30.10/
 /
CALSCALE:GREGORIAN
METHOD:PUBLISH
UID:01b11ba3-3e0f-4816-a620-150aeebcfebb
X-WR-CALNAME:iCagenda
X-WR-CALDESC:Event Management Extension for Joomla!
X-WR-RELCALID:3E26604A-50F4-4449-8B3E-E4F4932D05B5
X-WR-TIMEZONE:UTC
BEGIN:VTIMEZONE
TZID:UTC
END:VTIMEZONE
BEGIN:VEVENT
UID:631e60f5-6bcd-45a9-9ec9-09df7f3cdc57
DTSTAMP:20260421T141129Z
CATEGORIES:Krakdent
CLASS:PUBLIC
DESCRIPTION;ALTREP="CID:<FFFF__=0ABBE548DFE235B58f9e8a93d@coffeebean.com>":
 Temat: Parafunkcje\, bruksizm - jak je rozpoznać\, leczyć i rozmawiać o ni
 ch z pacjentem? \nProwadzący: dr n. med. Michał Paulo\; \nCena: 320 zł\;\n
  Punkty edukacyjne: 2 pkt.\nMiejsce: Targi Krakdent\, Galicyjska 9\, Krakó
 w\, sala seminaryjna Lwów C\nData: 13 kwietnia 2024 r\, Sobota\,  godzina 
 12.15-14.15\n\n \nParafunkcje\, bruksizm - jak je rozpoznać\, leczyć i roz
 mawiać o nich z pacjentem? Potencjalny wpływ parafunkcji i bruksizmu na le
 czenie ortodontyczne i protetyczne. \nPunkty wykładu: \n1. Różne rodzaje p
 arafunkcji\, jakie ślady pozostawiają w jamie ustnej. \n2. Kiedy i jakie z
 astosować leczenie \n3. Leczenie tych zaburzeń u dzieci i u dorosłych. Czy
 m się różni i kiedy je rozpocząć? \n4. Wykorzystanie różnych metod diagnos
 tycznych w celu określenia czy i jaki wpływ maja na zaburzenia w stawach s
 kroniowo - żuchwowych. \n5. Czy ból zęba\, ból głowy i inne objawy mogą by
 c związane z wykonywaniem parafunkcji. \n6. Jaki rodzaj szyny lub innej te
 rapii wybrać w celu przygotowania pacjenta do leczenia protetycznego lub o
 rtodontycznego.\n\nProwadzący:\ndr. n. med. Michał Paulo\nUkończył studia 
 w 2010 r. na Uniwersytecie Medycznym w Lublinie. W 2016 r. uzyskał tytuł d
 oktora pracą z diagnostyki zaburzeń w obrębie układu ruchowego narządu żuc
 ia. W 2016 r. ukończył studia podyplomowe i uzyskał tytuł Coach ICI. Obecn
 ie prowadzi poradnię zaburzeń czynnościowych narządu żucia w Rzeszowie i K
 rakowie. Jest członkiem Polskiego Towarzystwa Dysfunkcji Narządu Żucia i M
 ensa Polska. Odbył ponad 90 kursów w Polsce\, Włoszech\, Niemczech\, Belgi
 i\, Czechach\, Węgrzech\, Maroku\, Litwie w dziedzinach zaburzeń czynności
 owych narządu żucia\, medycynie estetycznej\, stomatologii odtwórczej\, es
 tetycznej\, protetyce\, endodoncji\, ortodoncji\, implantologii\, periodon
 tologii oraz fotografii stomatologicznej. Podczas Targów Expodent 2015 jeg
 o autorska metoda MP-scan zdobyła I miejsce. Wykłady i kursy prowadzi od 2
 014r. Jest autorem rozdziałów\, prac badawczych\, publikacji naukowych\, s
 prawozdań oraz streszczeń (do gazet takich jak: Annals of Agricultural and
  Environmental Medicine\, Archives of Medical Science\, Journal of Pre-Cli
 nical and Clinical Research\, Cosmetic\, Nowy Gabinet Stomatologiczny\, Me
 dycyna Praktyczna Stomatologia\, Magazyn Stomatologiczny\, e-Dentico\, Sto
 matologia Współczesna\, stuDenitco oraz Alma Mater) – łącznie 47 prac. Jes
 t współautorem książki „Rola lekarza dentysty w rozpoznawaniu objawów prze
 mocy wobec dzieci” oraz tłumaczenia książki pt. ”Local Anesthesia”. Jest o
 rganizatorem licznych kongresów i konferencji stomatologicznych\, akcji pr
 ofilaktycznych i koncertów charytatywnych.\n\n \n\nOpłatę za kurs proszę w
 nieść na podstawie faktury proforma\, którą Państwo otrzymają po wypełnien
 iu zgłoszenia. Konto\, na które należy wpłacić należność za kurs to:\nSPS 
 - Piotr Szymański numer: 31 1090 1870 0000 0001 3335 2731\nSzczegółowych i
 nformacji udziela Aleksandra Kowalińska tel. +48 509 912 963  w godz. 9:00
 -16:00.\n
DTSTART:20240413T121500Z
DTEND:20240413T140000Z
GEO:+50.059734;+20.009449
LOCATION:Galicyjska 9\, Kraków
ORGANIZER;CN=:prenumerata@spsmedia.pl
SEQUENCE:1
SUMMARY:Parafunkcje\, bruksizm - jak je rozpoznać\, leczyć i rozmawiać o ni
 ch z pacjentem?
TRANSP:OPAQUE
URL:https://szkolastomatologii.pl/historia-szkolen/21-parafunkcje-bruksizm
END:VEVENT
END:VCALENDAR
