BEGIN:VCALENDAR
VERSION:2.0
PRODID:-//szkolastomatologii.pl//NONSGML kigkonsult.se iCalcreator 2.30.10/
 /
CALSCALE:GREGORIAN
METHOD:PUBLISH
UID:235d719d-88f7-4533-866d-a9c697ae61fa
X-WR-CALNAME:iCagenda
X-WR-CALDESC:Event Management Extension for Joomla!
X-WR-RELCALID:3E26604A-50F4-4449-8B3E-E4F4932D05B5
X-WR-TIMEZONE:UTC
BEGIN:VTIMEZONE
TZID:UTC
END:VTIMEZONE
BEGIN:VEVENT
UID:f753dcc6-7679-41ba-b1e4-151b1ec58137
DTSTAMP:20260421T141935Z
CATEGORIES:TERAPIA STAWÓW SSŻ
CLASS:PUBLIC
DESCRIPTION;ALTREP="CID:<FFFF__=0ABBE548DFE235B58f9e8a93d@coffeebean.com>":
 Temat: Współpraca dentysty i fizjoterapeuty w prowadzeniu pacjenta z dysfu
 nkcją stawów skroniowo-żuchwowych \nProwadzący: lek. dent. Dominika Pietrz
 ak\nCena: 320 zł\;\nPunkty edukacyjne: 2 pkt.\nTermin: 11 kwietnia 2024 r 
 (Targi Krakdent 2024 - Czwartek)\; godzina 10.15-12.15\nMiejsce: Kraków\, 
 ul. Galicyjska 9\, sala seminaryjna Lwów A\n \nSzczegółowy plan wykładu:\n
  \n1. Po co dentyście fizjoterapeuta\, a po co fizjoterapeucie dentysta? 
 \n2. Zastosowanie szynoterapii w kontekście leczenia pacjentów z dysfunkcj
 ą stawów skroniowo-żuchwowych.\n3. Przebieg wizyt u fizjoterapeuty i denty
 sty.\n4. Dodatkowe badania diagnostyczne - CBCT\, cefalometria\, cefalomet
 ria czynnościowa – mające pomóc dentyście i fizjoterapeucie lepiej zdiagno
 zować problem u pacjenta.\n5. Przypadki kliniczne prowadzonych wspólnych p
 acjentów. \n\n\n\n\nlek. dent. Dominika Pietrzak\n\n\nUkończyła studia na 
 Uniwersytecie Medycznym w Białymstoku. Obecnie pracuje w prywatnych klinik
 ach specjalizujących się w holistycznym podejściu do Pacjenta\, w szczegól
 ności z dużym naciskiem na schorzenia stawów skroniowo-żuchwowych. Ukończy
 ła wiele kursów w zakresie okluzji\, protetyki oraz zaburzeń. Absolwentka 
 The Dawson Academy oraz BOC według profesora Rocabado. \nSpecjalizuje się 
 w protetyce\, zaburzeniach stawów skroniowo-żuchwowych oraz stomatologii e
 stetycznej.\n\n\n\n \n \n \n \n \n\n\n\nOpłatę za kurs proszę wnieść na po
 dstawie faktury proforma\, którą Państwo otrzymają po wypełnieniu zgłoszen
 ia. Konto\, na które należy wpłacić należność za kurs to:\nSPS - Piotr Szy
 mański numer: 31 1090 1870 0000 0001 3335 2731\nSzczegółowych informacji u
 dziela Aleksandra Kowalińska tel. +48 509 912 963  w godz. 9:00-16:00.\n\n
DTSTART:20240411T101500Z
DTEND:20240411T121500Z
GEO:+50.059734;+20.009449
LOCATION:Galicyjska 9\, Kraków
ORGANIZER;CN=:prenumerata@spsmedia.pl
SEQUENCE:1
SUMMARY:Współpraca dentysty i fizjoterapeuty w prowadzeniu pacjenta z dysfu
 nkcją stawów skroniowo-żuchwowych 
TRANSP:OPAQUE
URL:https://szkolastomatologii.pl/historia-szkolen/28-prowadzenie-pacjenta-
 z-dysfunkcja-ssz
END:VEVENT
END:VCALENDAR
