BEGIN:VCALENDAR
VERSION:2.0
PRODID:-//szkolastomatologii.pl//NONSGML kigkonsult.se iCalcreator 2.30.10/
 /
CALSCALE:GREGORIAN
METHOD:PUBLISH
UID:18fa8d01-1e0a-4e1f-b003-1e94637cac06
X-WR-CALNAME:iCagenda
X-WR-CALDESC:Event Management Extension for Joomla!
X-WR-RELCALID:3E26604A-50F4-4449-8B3E-E4F4932D05B5
X-WR-TIMEZONE:UTC
BEGIN:VTIMEZONE
TZID:UTC
END:VTIMEZONE
BEGIN:VEVENT
UID:564fd31e-ce24-4070-b47b-e27da879a4bc
DTSTAMP:20260421T142700Z
CATEGORIES:RATOWNICTWO MEDYCZNE
CLASS:PUBLIC
DESCRIPTION;ALTREP="CID:<FFFF__=0ABBE548DFE235B58f9e8a93d@coffeebean.com>":
 Miejsce: Hotel Lord\, Warszawa Al. Krakowska 218\nPunkty edukacyjne: 8 pkt
 . Cena: 540 zł.\nProwadzący: anestezjolog Adam M. Pietrzak\, psycholog mgr
  Kinga J. Karczewska\, ratownik medyczny Michał Ewertowski (ćwiczenia)\, m
 gr Barbara Werpachowska – pielęgniarka\, Michał Pyka – ratownik medyczny\,
  specjalista w zakresie defibrylatorów.\n\nSzkolenie z pierwszej pomocy dl
 a pracowników (lekarzy\, asystentek\, higienistek\, recepcjonistek) gabine
 tów stomatologicznych i nie tylko.\nNa szkolenie\, choć z założenia jest o
 no zorientowane na gabinet stomatologiczny\, zapraszamy lekarzy i pracowni
 ków medycznych wszystkich specjalności. W pierwszej części – wykładowej\, 
 zostaną omówione wszelkie procedury postępowania z osobą\, której należy u
 dzielić pierwszej pomocy. Zostaną omówione róże sytuacje i specyficzne spo
 soby postępowania.\nW drugiej części szkolenia – praktycznej\, uczestnicy 
 będą się szkolić z udzielania pierwszej pomocy na manekinach. Pod okiem ra
 towników medycznych nauczą się: resuscytacji krążeniowo-oddechowa\, używan
 ia defibrylatora\, zakładania dostępu naczyniowego do żył obwodowych\, sto
 sowania tlenoterapii\, a także zarządzania sytuacją kryzysową oraz kierowa
 nia zespołem.\nSzkolenie przygotowane na podstawie standardów i procedur w
 ystępujących w gabinetach stomatologicznych.\n9.00 – 13.00 Teoria (Wykłady
 )\n\nZarządzanie sytuacją kryzysową w gabinecie - psycholog mgr Kinga J. K
 arczewska.\nPrzygotowanie do stanów nagłych w gabinecie - anestezjolog Ada
 m M. Pietrzak.\nSpektrum uzależnień od substancji psychoaktywnych w prakty
 ce stomatologicznej -anestezjolog Adam M. Pietrzak.\nSedacja Midazolamem w
  stomatologii pediatrycznej\, doświadczenia własne - anestezjolog Adam M. 
 Pietrzak.\n\n13.00 – 14.00 LUNCH\n14.00 – 18.00 Ćwiczenia - blok warsztató
 w praktycznych\n\nResuscytacja krążeniowo-oddechowa - warsztaty praktyczne
  (BLS/AED).\nPrawidłowe zakładanie dostępu naczyniowego do żył obwodowych 
 – warsztaty praktyczne.\nAutomatyczny defibrylator AED - Defibrylacja – wa
 rsztaty praktyczne.\nTlenoterapia bierna i czynna.\n\nKażdy z uczestników 
 przejdzie przez praktyczne szkolenie w każdym z powyższych zagadnień.\nNau
 czysz się:\n\nPraktycznych czynności ratujących życie.\nPrzezwyciężysz swo
 je obawy dotyczące pomagania innym.\nDzięki charakteryzacji teatralnej osw
 oisz się z tym\, co możesz zobaczyć na miejscu zdarzenia.\nSpecjalnie opra
 cowane ćwiczenia przygotują Cię do działań związanych z zarządzaniem współ
 pracownikami w trakcie zdarzenia.\nPoznasz procedury postępowania w razie 
 zagrożenia zdrowia lub życia\, mające zastosowanie w Twojej przychodni.\nU
 miejętności\, które zdobędziesz\, są zgodne z najnowszą wiedzą i wytycznym
 i Europejskiej Rady Resuscytacji.\nDostaniesz certyfikat potwierdzający zd
 obyte umiejętności.\n\nProgram:\n\nProcedury udzielania pierwszej pomocy w
  przychodni stomatologicznej\;\nBezpieczeństwo własne\;\nOcena i zarządzan
 ie miejscem zdarzenia\;\nWezwanie pomocy\, zarządzanie pracownikami przych
 odni\;\nOcena stanu poszkodowanego - ABCD\;\nUciskanie klatki piersiowej i
  sztuczne oddychanie u dorosłych i dzieci\n(Resuscytacja Krążeniowo-Oddech
 owa)\;\nAED – automatyczny defibrylator zewnętrzny\;\nStany nagłe w stomat
 ologii – wstrząs anafilaktyczny\, atak serca\, udar mózgu\, epilepsja\, cu
 krzyca\, astma\, zakrztuszenia\, omdlenia\;\nUrazy - rany\, krwotoki\, zła
 mania\, urazy czaszkowo-mózgowe\, porażenia prądem\, poparzenia\;\nWspółpr
 aca ze służbami ratunkowymi\;\nLeki w gabinecie stomatologicznym\;\nZestaw
  przeciwwstrząsowy\;\nPrawne aspekty udzielania pierwszej pomocy.\n \nCena
  zawiera: wykłady\, przerwy kawowe\, lunch.\nCena nie zawiera opłat za noc
 leg. Noclegi prosimy rezerwować indywidualnie w hotelu LORD. Na hasło Zjaz
 d Dentystów otrzymają Państwo specjalny rabat. Rezerwacja: +48 22 574 20 0
 0.\n\n\nZapisy i informacje:\nAleksandra Kowalińska\, +48 509 912 963\, pr
 enumerata@spsmedia.pl\nPŁATNOŚCI:\nProsimy kwotę za szkolenie wpłacić na k
 onto:\n31 1090 1870 0000 0001 3335 2731\nSPS-Piotr Szymański\nZ. Modzelews
 kiego 67/4\n02-679 Warszawa\nNa podstawie otrzymanej płatności otrzymają P
 aństwo fakturę na maila\, z którego nastąpiła rejestracja na szkolenie.\n
 \nCena za kurs nie obejmuje noclegu. Nocleg należy zarezerwować indywidual
 nie w hotelu (tel. 22 574 20 00). Na hasło Zjazd Lekarzy Dentystów hotel u
 dziela zniżki na noclegi.\n 
DTSTART:20241207T090000Z
DTEND:20241207T180000Z
GEO:+52.186707;+20.955709
LOCATION:Aleja Krakowska 218\, 02-219 Warszawa
ORGANIZER;CN=:prenumerata@spsmedia.pl
SEQUENCE:1
SUMMARY:Szkolenie z zakresu ratownictwa medycznego dla stomatologów
TRANSP:OPAQUE
URL:https://szkolastomatologii.pl/historia-szkolen/3-szkolenie-z-zakresu-ra
 townictwa-medycznego-dla-stomatologow
END:VEVENT
END:VCALENDAR
