BEGIN:VCALENDAR
VERSION:2.0
PRODID:-//szkolastomatologii.pl//NONSGML kigkonsult.se iCalcreator 2.30.10/
 /
CALSCALE:GREGORIAN
METHOD:PUBLISH
UID:abb7f8b5-ecf4-43e2-85f3-42e3e3cb5b26
X-WR-CALNAME:iCagenda
X-WR-CALDESC:Event Management Extension for Joomla!
X-WR-RELCALID:3E26604A-50F4-4449-8B3E-E4F4932D05B5
X-WR-TIMEZONE:UTC
BEGIN:VTIMEZONE
TZID:UTC
END:VTIMEZONE
BEGIN:VEVENT
UID:cc8b011f-66e7-40c0-8be2-2aa3bc76467a
DTSTAMP:20260421T142136Z
CATEGORIES:ODBUDOWA ESTETYCZNA
CLASS:PUBLIC
DESCRIPTION;ALTREP="CID:<FFFF__=0ABBE548DFE235B58f9e8a93d@coffeebean.com>":
 Temat: Odbudowa estetyczna czy rehabilitacja narządu żucia? Jak bezpieczni
 e zbudować nowy uśmiech - Szkolenie z pokazem praktycznym odbudowy zaguzko
 wania do stworzenia bazy dla uzupełnień ceramicznych.\nProwadzący: Dr n. m
 ed. Karolina Mazurek\nCena: 1290 zł\; Punkty edukacyjne: 7 pkt.\nTermin: 8
  czerwca 2024 r.\nMiejsce: Hotel Lord\, Warszawa\, Al Krakowska 218\n\nPod
 czas wykładu dowiesz się:\n\nJak poprowadzić wywiad\, aby poznać oczekiwan
 ia pacjenta odnośnie estetyki?\nO co zapytać\, żeby nie przegapić ważnych 
 informacji funkcjonalnych?\nJak zbadać pacjenta\, aby prawidłowo postawić 
 rozpoznanie?\nW jakim zakresie radiologia wspiera cię w leczeniu pacjenta?
 \nNarzędzia i wiedza\, które pozwolą na przekazanie informacji o narządzie
  żucia do laboratorium protetycznego - pokaz procedury.\nOdbudowa zaguzkow
 ania materiałem kompozytowym: materiały\, narzędzia\, technika pracy - pok
 az praktyczny wykonania rekonstrukcji w jamie ustnej.\n\nRamowy program za
 jęć:\n9.30 - 11.00 Wykład 1\n11.00-11.15 Przerwa kawowa\n11.15- 13.00 - Wy
 kład 2\n13.00- 14.00 Lunch\n14.00-15.45 Wykład 3\n15.45-16.00 Przerwa kawo
 wa\n16.00 - 18.00 Pokaz praktyczny odbudowy\n\nKurs został zgłoszony do Ok
 ręgowej Izby lekarskiej. Każdy kursant otrzyma certyfikat oraz 7 punktów e
 dukacyjnych.\nSzczegóły merytoryczne: Katarzyna Fernik - tel. 506 988 334
 \n\nCena za kurs nie obejmuje noclegu. Nocleg należy zarezerwować indywidu
 alnie w hotelu (tel. 22 574 20 00).\nInformacje i zapisy:Aleksandra Kowali
 ńska\, +48 509 912 963\, prenumerata@spsmedia.pl\nPŁATNOŚCI:Prosimy kwotę 
 za szkolenie wpłacić na konto:31 1090 1870 0000 0001 3335 2731SPS-Piotr Sz
 ymańskiZ. Modzelewskiego 67/402-679 Warszawa\nNa podstawie otrzymanej płat
 ności otrzymają Państwo fakturę na maila\, z którego nastąpiła rejestracja
  na szkolenie.\n \n 
DTSTART:20240608T093000Z
DTEND:20240608T180000Z
GEO:00;0
LOCATION:
ORGANIZER:
SEQUENCE:1
SUMMARY:Odbudowa estetyczna czy rehabilitacja narządu żucia? Jak bezpieczni
 e zbudować nowy uśmiech.
TRANSP:OPAQUE
URL:https://szkolastomatologii.pl/historia-szkolen/32-rehabilitacja-narzadu
 -zucia
END:VEVENT
END:VCALENDAR
