BEGIN:VCALENDAR
VERSION:2.0
PRODID:-//szkolastomatologii.pl//NONSGML kigkonsult.se iCalcreator 2.30.10/
 /
CALSCALE:GREGORIAN
METHOD:PUBLISH
UID:50e16092-909a-4b11-8490-679b13f536ec
X-WR-CALNAME:iCagenda
X-WR-CALDESC:Event Management Extension for Joomla!
X-WR-RELCALID:3E26604A-50F4-4449-8B3E-E4F4932D05B5
X-WR-TIMEZONE:UTC
BEGIN:VTIMEZONE
TZID:UTC
END:VTIMEZONE
BEGIN:VEVENT
UID:acc2757f-f716-444a-b14a-679b003dd1b2
DTSTAMP:20260421T142428Z
CATEGORIES:LECZENIE NAKŁADKAMI
CLASS:PUBLIC
DESCRIPTION;ALTREP="CID:<FFFF__=0ABBE548DFE235B58f9e8a93d@coffeebean.com>":
 Kurs edukacyjny: Techniki i sposoby na poprawienie efektywności leczenia n
 akładkami – wprowadzenie do leczenia nakładkami dla stomatologów „Pierwszy
  Aligner”.\nWykładowca: dr n. med. Agnieszka Czechumska\nCzas trwania wykł
 adów: 7 godzin\nTermin: 6 grudnia 2024 r. g. 9.30-16.30\nCena: 1590 zł\; P
 unkty edukacyjne: 6 pkt.\n\nPlan kursu:\n9.30-11.00  Część 1 \nWprowadzeni
 e do leczenia nakładkami „Pierwszy Aligner”\nPodstawowe pojęcia i zasady p
 racy nakładkami \n\n\nWprowadzenie do ortodoncji nakładkowej\nPorównanie o
 rtodoncji nakładkowej do tradycyjnych aparatów stałych\nAnatomia i fizjolo
 gia narządu żucia w aspekcie wad zgryzu\nMechanizmy działania nakładek ort
 odontycznych\nWskazania i przeciwskazania do leczenia nakładkami ortodonty
 cznymi\nSelekcja pacjentów do pierwszych leczeń nakładkami\n\n\n11.00 - 11
 .15 Przerwa kawowa\n11.15 - 12.45 Część 2 \nAttachmenty w leczeniu nakładk
 ami\n\n\nDefinicja attachmentów i ich rola w leczeniu nakładkami\nRodzaje 
 attachmentów\nTechnika zakładania attachmentów\nProblemy związane z attach
 mentami\n\n\nStripping w leczeniu nakładkami\n\n\nDefinicja strippingu i j
 ego rola w leczeniu nakładkami\nTechnika przeprowadzania strippingu\nZagro
 żenia związane ze strippingiem\nCzęste błędy w przeprowadzaniu strippingu
 \n\n\n12.45 - 13.15 Lunch\n13.15 - 14.45 Część 3 \nTechniki podstawowe i z
 aawansowane \n\n\nLeczenie przedprotetyczne\, przedimplantologiczne dla st
 omatologów ogólnych i portetyków\nLeczenie dzieci nakładkami\nElastiki\, k
 leszcze i miniimplanty w leczeniu nakładkami\nMetody hybrydowe\n\n\nSkanow
 anie uzębienia\n\n\nTechniki ułatwiające skanowanie\nSkanery ortodontyczne
  (ceny\, rodzaje)\n\n\n14.45 – 15.00 Przerwa kawowa\n15.00 – 16.30 Część 4
  \nEkonomia i prawo związane z leczeniem nakładkami \n\n\nFirmy nakładkowe
  dostępne w Polsce\nWysokość faktur za pakiety leczeń nakładkami vs cena z
 a pojedynczy aligner\nWspółpraca z marką nakładkową vs produkcja alignerów
  w gabinecie\nJakie leczenia nakładkami może prowadzić dentysta\, a jakie 
 należy referować do specjalisty ortodonty?\nPrawo obowiązujące w Polsce\nD
 yskusja – pytania i odpowiedzi\n\n\n\n„Szkolenie dedykowane jest dla stoma
 tologów\, którzy jeszcze nie podjęli decyzji o rozpoczęciu pracy nakładkam
 i oraz dla tych którzy chcą leczyć nimi swoich pierwszych pacjentów. Zapra
 szam również wszystkich początkujących „nakładkowców” każdej marki nakładk
 owej dostępnej w Polsce. Na szkoleniu nie będzie selekcji firm\, lecz prze
 kazywanie niezbędnych informacji by dobrze pracować każdymi nakładkami. \n
 Na szkoleniu wytłumaczę\, jak selekcjonować pacjentów do swoich idealnych 
 pierwszych leczeń nakładkami. Przekażę vademecum wiedzy teoretycznej i doł
 ączę do tego liczne fotografie przed/w trakcie i po leczeniu dorosłych pac
 jentów głównie przed leczeniem protetycznym czy implantologicznym. Wytłuma
 czę zasady uzyskiwania miejsca w łuku przy stłoczonych zębach i opowiem dl
 aczego naklejenie naczepów na zęby jest ważne. Porozmawiamy o prawie obowi
 ązującym w Polsce. Sprawię\, że „szerzej otworzysz oczy”. A leczenie nakła
 dkami stanie się dla Ciebie mniej skomplikowane.”\nDr n. med. Agnieszka Cz
 echumska \n\n \nO wykładowcy\n\nDr n. med. Agnieszka Czechumska to pasjona
 t nowinek technologicznych w stomatologii. Redaktor naczelna witryny Denty
 staRadzi.pl.\nPowoływana na biegłego sądowego w sprawach stomatologii. Od 
 15 lat zafascynowana małoinwazyjnymi metodami leczenia\, w tym leczenia pr
 zezroczystymi nakładkami. Certyfikowany lekarz kilku światowych firm nakła
 dkowych. Z doświadczeniem pracy w kraju i za granicą. Od 5 lat pomaga dent
 ystą zrozumieć biomechanikę i zasady pracy alignerami. Prowadzi szkolenia 
 stacjonarne i online dla kilku firm nakładkowych i indywidualnych dentystó
 w. Autor aktualnego cyklu artykułów poświęconych wprowadzeniu do leczenia 
 nakładkami przez stomatologów ogólnych\, publikowanych w Nowym Gabinecie S
 tomatologicznym.\n \n \n \n \n\nCena za kurs nie obejmuje noclegu. Nocleg 
 należy zarezerwować indywidualnie w hotelu (tel. 22 574 20 00).\nInformacj
 e i zapisy:Aleksandra Kowalińska\, +48 509 912 963\, prenumerata@spsmedia.
 pl\nPŁATNOŚCI:Prosimy kwotę za szkolenie wpłacić na konto:31 1090 1870 000
 0 0001 3335 2731SPS-Piotr SzymańskiZ. Modzelewskiego 67/402-679 Warszawa\n
 Na podstawie otrzymanej płatności otrzymają Państwo fakturę na maila\, z k
 tórego nastąpiła rejestracja na szkolenie.\n \n 
DTSTART:20241206T093000Z
DTEND:20241206T163000Z
GEO:+52.186707;+20.955709
LOCATION:Warszawa\, Hotel Lord ****\; al. Krakowska 218
ORGANIZER;CN=:prenumerata@spsmedia.pl
SEQUENCE:1
SUMMARY:Wprowadzenie do leczenia nakładkami „Pierwszy Aligner”
TRANSP:OPAQUE
URL:https://szkolastomatologii.pl/historia-szkolen/33-techniki-i-sposoby-na
 -poprawienie-efektywnosci-leczenia-nakladkami
END:VEVENT
END:VCALENDAR
