BEGIN:VCALENDAR
VERSION:2.0
PRODID:-//szkolastomatologii.pl//NONSGML kigkonsult.se iCalcreator 2.30.10/
 /
CALSCALE:GREGORIAN
METHOD:PUBLISH
UID:3b1243d2-8788-4806-b780-93fd933609a4
X-WR-CALNAME:iCagenda
X-WR-CALDESC:Event Management Extension for Joomla!
X-WR-RELCALID:3E26604A-50F4-4449-8B3E-E4F4932D05B5
X-WR-TIMEZONE:UTC
BEGIN:VTIMEZONE
TZID:UTC
END:VTIMEZONE
BEGIN:VEVENT
UID:cf0806a6-a07e-49ec-881c-286287687b3b
DTSTAMP:20260421T142259Z
CATEGORIES:LECZENIE NAKŁADKAMI
CLASS:PUBLIC
DESCRIPTION;ALTREP="CID:<FFFF__=0ABBE548DFE235B58f9e8a93d@coffeebean.com>":
 Temat: Kurs edukacyjny: Leczenie nakładkami pacjentów dorosłych „Prosty Al
 igner”\nWykładowca: dr n. med. Agnieszka Czechumska\nTermin: 11.05.2024 so
 bota g. 10.00-17.00\nMiejsce: Dental Experts\, Obrońców Westerplatte 32B\,
  80-317 Gdańsk\nCena: 2590 zł\; Punkty edukacyjne: 6 pkt.\n\nPlan kursu:\n
 10.00-11.30 Część 1 \nPodstawowe pojęcia i zasady\n\n\nWprowadzenie do ort
 odoncji nakładkowej osób dorosłych\nBiomechanika działania nakładek ortodo
 ntycznych\nWskazania i przeciwskazania do leczenia nakładkami ortodontyczn
 ymi\nSelekcja pacjentów dorosłych do pierwszych leczeń nakładkami\n\n\nWyb
 rane rodzaje leczenia nakładkami osób dorosłych\n\n\nLeczenie przedprotety
 czne\nLeczenie przedimplantologiczne\nLeczenie pacjentów z chorobami przyz
 ębia\nLeczenie pacjentów w wieku emerytalnym\nLeczenie pacjentów z licznym
 i brakami zębowymi\n\n\n11.30 - 11.45 Przerwa kawowa\n11.45- 13.15 Część 2
  \nĆwiczenia praktyczne na fantomach: \nAttachmenty w leczeniu nakładkami
 \n\n\n\nĆwiczenia naklejania attachmentów na fantomach\nRola attachmentów 
 w leczeniu nakładkami\nRodzaje technik i materiałów stosowanych do zakłada
 nia attachamentów\n\n\n\nStripping w leczeniu nakładkami\n\n\n\nĆwiczenia 
 wykonywania strippingu na fantomach\nRola strippingu w leczeniu nakładkami
 \nNarzędzia i techniki przeprowadzania strippingu\n\n\n\n13.15 -13.45 Lunc
 h\n13.45 -15.15 Część 3\nPrzebieg wizyt podczas leczenia nakładkami\n\n\nW
 izyta na oddanie nakładek\, wykonanie strippingu i naklejenie attachamentó
 w\nNadzorowanie realizacji ekspresji klinicznej cyfrowego planu leczenia\n
 Edukacja pacjenta\nWizyty kontrolne planowane\nAwarie w leczeniu nakładkam
 i\n\n\n15.15– 15.30 Przerwa kawowa\n15.30 – 17.00 Część 4\nZakończenie lec
 zenia nakładkami \n\n\nNakładki dodatkowe\nNakładki do finishingu\nZasady 
 retencji wyników leczenia\nPlanowanie rekonstrukcji implantoprotetycznych 
 po leczeniu nakładkami\nDyskusja – pytania i odpowiedzi\n\n\n\n„Szkolenie 
 „Prosty Aligner” obejmuje wprowadzenie i uzupełnienie wiedzy z zakresu lec
 zenia przedprotetycznego i przedimplantologicznego pacjentów dorosłych. Na
  wykładach omawiane będą bardzo szczegółowo informacje na temat selekcji p
 acjentów dorosłych i geriatrycznych do minimalnie inwazyjnego leczenia nak
 ładkami. Przeanalizujemy leczenie nakładkami osób dorosłych od wizyty kons
 ultacyjnej\, po tworzenie realistycznego cyfrowego planu leczenia aż do za
 sad zakończenia leczenia.\nW części praktycznej przećwiczymy „straszny” st
 ripping i „odpadające” naczepy. Celem części praktycznej jest umiejętność 
 wykonania szybkiego i dobrego IPR oraz silne przyklejenie attachmentów tak
  by trzymały się na zębach przez całe leczenie.\nNa szkolenie zaproszeni s
 ą wszyscy początkujący „nakładkowcy” każdej marki nakładkowej dostępnej w 
 Polsce. Wiele korzyści uzyskać mogą lekarze\, którzy są w trakcie lub wyle
 czyli mniej niż 10 pierwszych swoich pacjentów. Opowiem o awariach i probl
 emach w trakcie leczenia nakładkami\, a co najważniejsze wytłumaczę jakie 
 są na nie rozwiązania.\nPrzewiduję dużo czasu na rozmowy na temat konkretn
 ych waszych klinicznych pytań. Z doświadczenia wiem\, że na tego typu szko
 lenia przychodzą dentyści którzy mają pytania ale nie mają gdzie uzyskać o
 dpowiedzi. Zatem zapraszam na szkolenie.”\ndr n. med. Agnieszka Czechumska
 \n\n \nO wykładowcy\n\nDr n. med. Agnieszka Czechumska to pasjonat nowinek
  technologicznych w stomatologii. Redaktor naczelna witryny DentystaRadzi.
 pl.\nPowoływana na biegłego sądowego w sprawach stomatologii. Od 15 lat za
 fascynowana małoinwazyjnymi metodami leczenia\, w tym leczenia przezroczys
 tymi nakładkami. Certyfikowany lekarz kilku światowych firm nakładkowych. 
 Z doświadczeniem pracy w kraju i za granicą. Od 5 lat pomaga dentystą zroz
 umieć biomechanikę i zasady pracy alignerami. Prowadzi szkolenia stacjonar
 ne i online dla kilku firm nakładkowych i indywidualnych dentystów. Autor 
 aktualnego cyklu artykułów poświęconych wprowadzeniu do leczenia nakładkam
 i przez stomatologów ogólnych\, publikowanych w Nowym Gabinecie Stomatolog
 icznym.\n \n \n \n \n\nCena za kurs nie obejmuje noclegu. Nocleg należy za
 rezerwować indywidualnie w hotelu (tel. 22 574 20 00).\nInformacje i zapis
 y:Aleksandra Kowalińska\, +48 509 912 963\, prenumerata@spsmedia.pl\nPŁATN
 OŚCI:Prosimy kwotę za szkolenie wpłacić na konto:31 1090 1870 0000 0001 33
 35 2731SPS-Piotr SzymańskiZ. Modzelewskiego 67/402-679 Warszawa\nNa podsta
 wie otrzymanej płatności otrzymają Państwo fakturę na maila\, z którego na
 stąpiła rejestracja na szkolenie.\n \nSzkolenie teoretyczno-praktyczne na 
 żywo:\nWykładowca: dr n. med. Agnieszka Czechumska\nCzas trwania wykładów 
 i ćwiczeń: 7 godzin
DTSTART:20240511T100000Z
DTEND:20240511T170000Z
GEO:+54.408894;+18.563625
LOCATION:Obrońców Westerplatte 32B\, 80-317 Gdańsk
ORGANIZER;CN=:prenumerata@spsmedia.pl
SEQUENCE:1
SUMMARY:Leczenie nakładkami pacjentów dorosłych „Prosty Aligner”
TRANSP:OPAQUE
URL:https://szkolastomatologii.pl/historia-szkolen/34-leczenie-nakladkami-p
 acjentow-doroslych-prosty-aligner
END:VEVENT
END:VCALENDAR
