BEGIN:VCALENDAR
VERSION:2.0
PRODID:-//szkolastomatologii.pl//NONSGML kigkonsult.se iCalcreator 2.30.10/
 /
CALSCALE:GREGORIAN
METHOD:PUBLISH
UID:fad31ba3-8ba8-4a96-be63-2203b2374a91
X-WR-CALNAME:iCagenda
X-WR-CALDESC:Event Management Extension for Joomla!
X-WR-RELCALID:3E26604A-50F4-4449-8B3E-E4F4932D05B5
X-WR-TIMEZONE:UTC
BEGIN:VTIMEZONE
TZID:UTC
END:VTIMEZONE
BEGIN:VEVENT
UID:a3b7ca72-f61e-4fe1-b2a1-b0ad3e7d00f5
DTSTAMP:20260421T142305Z
CATEGORIES:STOMATOLOGIA ZACHOWAWCZA
CLASS:PUBLIC
DESCRIPTION;ALTREP="CID:<FFFF__=0ABBE548DFE235B58f9e8a93d@coffeebean.com>":
 Prowadzący: dr n. med. Michał Paulo\; \nCena: 1490 zł\nTermin: 22 czerwca 
 2024 r.\nMiejsce: Al. Krakowska 218\, Warszawa\, Hotel Lord****\nPunkty ed
 ukacyjne: 7 pkt\nWarsztaty praktyczne zakładają przeprowadzenie podstawowe
 go badania klinicznego układu stomatognatycznego i wykonanie interwencyjne
 j szyny w prawidłowym (leczniczym) położeniu żuchwy. W drugiej części zaję
 ć praktycznych zostaną omówione przypadki kliniczne na podstawie przywiezi
 onych przez kursantów modeli i zdjęć pacjentów.\nGłówne założenia kursu:\n
 \nKtóre czynniki wpływają na wystąpienie bólu zęba/zębów?\nKtóre czynniki 
 wpływają na wystąpienie zaburzeń w układzie ruchowym narządu żucia?\nJak p
 oradzić sobie z nagłym szczękościskiem u pacjenta?\nRóżne przyczyny bólu z
 ębowego.\nJak odnaleźć wektory pochodzenia zębowego obciążające stawy skro
 niowo-żuchwowe?\nArti-Dry w codziennej praktyce?\nPodstawowe zasady usuwan
 ia kontaktów przedwczesnych.\nJakie wspomagające leczenie farmakologiczne 
 zalecić pacjentowi?\nJak poradzić sobie w gabinecie z pacjentem z bólem w 
 obrębie URNŻ? - tips and tricks!!!\n\nRamowy plan zajęć:\n9.30 - 10.00 Rej
 estracja uczestników10.00 - 11.30 Wykład cz. I11.30 - 11.45 Przerwa kawowa
 11.45 - 13.15 Wykład cz. II13.15 - 14.00 Przerwa obiadowa14.00 - 14.30 Pok
 az praktyczny wykonania szyny miękkiej14.30 - 15.00 Przerwa kawowo - techn
 iczna15.00 - 18.00 Omówienie przypadków klinicznychprzywiezionych przez ku
 rsantów18.00 - 18.30 Podsumowanie I dnia kursu18.00 - 18.30 Test\, wręczen
 ie certyfikatów\, podsumowanie\n \nCena za kurs nie obejmuje noclegu. Nocl
 eg należy zarezerwować indywidualnie w hotelu (tel. 22 574 20 00).\nInform
 acje i zapisy:Aleksandra Kowalińska\, +48 509 912 963\, prenumerata@spsmed
 ia.pl\nPŁATNOŚCI:Prosimy kwotę za szkolenie wpłacić na konto:31 1090 1870 
 0000 0001 3335 2731SPS-Piotr SzymańskiZ. Modzelewskiego 67/402-679 Warszaw
 a\nNa podstawie otrzymanej płatności otrzymają Państwo fakturę na maila\, 
 z którego nastąpiła rejestracja na szkolenie.
DTSTART:20240622T100000Z
DTEND:20240622T183000Z
GEO:+52.186707;+20.955709
LOCATION:Warszawa\, Hotel Lord ****\; al. Krakowska 218
ORGANIZER;CN=:prenumerata@spsmedia.pl
SEQUENCE:1
SUMMARY:Ból zęba\, pacjent interwencyjny w gabinecie stomatologicznym
TRANSP:OPAQUE
URL:https://szkolastomatologii.pl/historia-szkolen/38-bol-zeba-pacjent-inte
 rwencyjny-w-gabinecie-stomatologicznym
END:VEVENT
END:VCALENDAR
