BEGIN:VCALENDAR
VERSION:2.0
PRODID:-//szkolastomatologii.pl//NONSGML kigkonsult.se iCalcreator 2.30.10/
 /
CALSCALE:GREGORIAN
METHOD:PUBLISH
UID:e1b69d90-aa7a-458a-a45b-370e175c2dba
X-WR-CALNAME:iCagenda
X-WR-CALDESC:Event Management Extension for Joomla!
X-WR-RELCALID:3E26604A-50F4-4449-8B3E-E4F4932D05B5
X-WR-TIMEZONE:UTC
BEGIN:VTIMEZONE
TZID:UTC
END:VTIMEZONE
BEGIN:VEVENT
UID:3d57771c-f219-4d27-8440-ba3d38e617fd
DTSTAMP:20260421T142616Z
CATEGORIES:RTG
CLASS:PUBLIC
DESCRIPTION;ALTREP="CID:<FFFF__=0ABBE548DFE235B58f9e8a93d@coffeebean.com>":
 Temat: Rentgenodiagnostyka w praktyce dla lekarzy stomatologów. Kurs obowi
 ązkowy dla lekarzy wykonujących zdjęcia RTG. 2 dni.\nTermin: 21-22 czerwca
  2024 (piątek\, sobota) godz. 9.00-18.00\nLiczba dni: 2\nSzkolenie odbędzi
 e się w Centrum Szkoleniowym Vatech Europe ul. Poleczki 35 budynek Amsterd
 am\, główna recepcja\, III piętro ( dzień pierwszy) i Hotel Plaza (dzień d
 rugi).\nPunkty edukacyjne: 16 punktów + 16 punktów 'sanepidowskich RTG'.\n
 Wykładowcy: dr n. med. Anna Michalska\; lek. dent. Stanisław Jalowski.\nCe
 na: 1750 zł\nMiejsce: Hotel Lord\, Warszawa Al. Krakowska 218\nSzkolenie t
 o obejmuje tematykę ochrony radiologicznej/bezpiecznego stosowania promien
 iowania jonizującego w celach medycznych/medycznych zastosowań promieniowa
 nia jonizującego/metod i procedur badań parametrów technicznych urządzeń r
 adiologicznych Zgodnie z rozporządzeniem Ministra Zdrowia z dnia 6 marca 2
 020 r. w sprawie szkoleń w dziedzinie ochrony radiologicznej pacjenta oraz
  Prawem atomowym (art. 33n ust. 19) lekarz dentysta w ciągu 5 lat musi zgr
 omadzić 20 pkt. szkoleniowych w dziedzinach:\n1) metod i technik wykonywan
 ia zdjęć wewnątrzustnych\,2) metod i technik wykonywania zdjęć zewnątrzust
 nych\,3) obrazowania badań RTG w stomatologii\,4) elementów radiologii sto
 matologicznej\,5) testów eksploatacyjnych urządzeń radiologicznych i urząd
 zeń pomocniczych\,6) medycznych procedur radiologicznych (wzorcowych i szc
 zegółowych)\,7) teleradiologii\,8) radiologii twarzowo-szczękowej\,9) stom
 atologicznej anatomii radiologicznej CT (CBCT)– w zakresie związanym z och
 roną radiologiczną pacjenta.\nZa udział w tym dwudniowym szkoleniu otrzyma
 ją Państwo 16 punktów edukacyjnych (do OIL-u) oraz 16 pkt szkoleniowych w 
 ramach szkolenia z tematyki ochrony radiologicznej.\n\nProgram szkolenia.
 \nDzień pierwszy:\nTEMAT DNIA: „Rentgenodiagnostyka w praktyce dla lekarzy
  stomatologów\, czyli jak prawidłowo wykonać zdjęcie RTG ZEWNĄTRZUSTNE i j
 ak prawidłowo je odczytywać”.\nProwadzący: dr n. med. Stanisław Jalowski.
 \nCel kursu: opanowanie zasad wykonywania zdjęć zewnątrzusnych\, eliminacj
 a najczęstszych błędów.\n09:00 – 11:00 (2h) Wykład\n1. Zasady wykonywania 
 zdjęć zewnątrzusnych. Kryteria poprawności wykonywanych zdjęć. Błędy i art
 efakty oraz sposoby ich eliminacji. Struktury widoczne na prawidłowo wykon
 anych zdjęciach.\n2. Jakość badania RTG – co na nią wpływa\, jak ją ocenia
 ć\, jak wyeliminować potencjalne błędy rzutujące na obniżenie jakości bada
 ń radiologicznych.\n11:00 – 11:15 Przerwa kawowa\n11:15 – 13:15 (2h) Wykła
 d\nOd obrazowania 2D do obrazowania 3D z uwzględnieniem medycznych procedu
 r wzorcowych. Możliwości oraz ograniczenia obrazowania 2D i 3D – kiedy i j
 akie badanie należy zlecić?\n13:15 – 13:45 Przerwa (lunch)\n13:45 – 15:45 
 (2h) Wykład 7\nObrazowanie 3D – możliwości. Testy eksploatacyjne urządzeń 
 radiologicznych stosowanych w stomatologii. Jak efektywnie wykorzystywać j
 e na co dzień w poszczególnych przypadkach z zakresu chirurgii\, endodoncj
 i\, ortodoncji\, etc.\n15:45 – 16:00 Przerwa\n16:00 – 18:00 (2h) Wykład \n
 Poruszanie się po badaniu CBCT – możliwości oceny tkanek oraz stanów patol
 ogicznych poprzez wyświetlanie badania w różnych formach: przekroje\, reko
 nstrukcja wolumetryczna itp. (1\,5h)\nDzień drugi:\nTEMAT DNIA: „Rentgenod
 iagnostyka w praktyce dla lekarzy stomatologów\, czyli jak prawidłowo wyko
 nać zdjęcie RTG WEWNĄTRZUSTNE i jak prawidłowo je odczytywać”\nWykładowca:
  dr n. med. Anna Michalska\nCel kursu: opanowanie techniki pozycjonowania 
 pacjenta\, eliminacja najczęstszych błędów przy wykonywaniu na co dzień zd
 jęć wewnątrzustnych.\n09:00 – 11:00 (2h) Wykład\n1. Aparaty RTG punktowe –
  parametry.\n2. Techniki obrazowania – analogowa i cyfrowa.\n3. Przepisy z
 wiązane z montażem aparatu RTG w gabinecie stomatologicznym.\n4. Zasady i 
 techniki obrazowania w radiologii stomatologicznej – stosowane projekcje.
 \n5. Porównanie dwóch technik wykonywania zdjęć: kąta prostego\, izometrii
  Cieszyńskiego.6.\n6. Praktyczna nauka wykonywania zdjęć wewnątrzustnych z
 ębowych techniką: kąta prostego\, izometrii Cieszyńskiego:\n\nskrzydłowo-z
 gryzowych\;\nzgryzowych\;\nstosowane modyfikacje projekcji\;\n\n11:00 – 11
 :15 Przerwa\n11:15 – 13:15 (2h) Wykład\n1. Techniki cyfrowe w rentgenodiag
 nostyce stomatologicznej - możliwości i ograniczenia:\n\ntechnika płyt obr
 azowych i skaner oraz radiografia\;\npokaz możliwości programów do obróbki
  zdjęć.\n\n2. Praktyczna nauka wykonywania zdjęć wewnątrzustnych – ciąg da
 lszy.\n13:15 – 13:45 Przerwa (lunch)\n13:45 – 15:45 (2h) Wykład\n1. Błędy 
 i artefakty widoczne na zdjęciach wewnątrzustnych i sposoby ich eliminacji
 .\n2. Prawo medyczne w zakresie radiologii – diagnostyki obrazowej i radio
 logii zabiegowej.\n15:45 – 16:00 Przerwa\n16:00 – 18:00 (2h) WykładBłędy i
  artefakty widoczne na zdjęciach wewnątrzustnych cd.\n \nCena nie obejmuje
  noclegów!\n\nInformacje i zapisy:\nAleksandra Kowalińska\, +48 509 912 96
 3\, prenumerata@spsmedia.pl\nPŁATNOŚCI:\nProsimy kwotę za szkolenie wpłaci
 ć na konto:\n31 1090 1870 0000 0001 3335 2731\nSPS-Piotr Szymański\nZ. Mod
 zelewskiego 67/4\n02-679 Warszawa\nNa podstawie otrzymanej płatności otrzy
 mają Państwo fakturę na maila\, z którego nastąpiła rejestracja na szkolen
 ie.\n\nCena za kurs nie obejmuje noclegu. Nocleg należy zarezerwować indyw
 idualnie w hotelu IBIS\, najbliżej obu miejsc szkoleniowych.\nIbis Styles 
 Warszawa Airport\, ul. Poleczki 31\n \nRezerwacja może być dokonana w nast
 ępujący sposób: a) bezpośrednio w Hotelu: hasło Vatech Europeb) w formie w
 iadomości e–mail na adres wskazany poniżej: HC131@accor.com\n\nPartner szk
 olenia:\n
DTSTART:20240621T090000Z
DTEND:20240622T180000Z
GEO:+52.186707;+20.955709
LOCATION:Aleja Krakowska 218\, 02-219 Warszawa
ORGANIZER;CN=:prenumerata@spsmedia.pl
SEQUENCE:1
SUMMARY:Rentgenodiagnostyka w praktyce dla lekarzy dentystów. Kurs obowiązk
 owy dla lekarzy wykonujących zdjęcia RTG (2 dni)
TRANSP:OPAQUE
URL:https://szkolastomatologii.pl/historia-szkolen/4-rentgenodiagnostyka-w-
 praktyce-dla-lekarzy-stomatologow-kurs-obowiazkowy-dla-lekarzy-wykonujacyc
 h-zdjecia-rtg-2-dni
END:VEVENT
END:VCALENDAR
