BEGIN:VCALENDAR
VERSION:2.0
PRODID:-//szkolastomatologii.pl//NONSGML kigkonsult.se iCalcreator 2.30.10/
 /
CALSCALE:GREGORIAN
METHOD:PUBLISH
UID:8e402e79-0fba-4da1-8059-d21f1e3ad3ab
X-WR-CALNAME:iCagenda
X-WR-CALDESC:Event Management Extension for Joomla!
X-WR-RELCALID:3E26604A-50F4-4449-8B3E-E4F4932D05B5
X-WR-TIMEZONE:UTC
BEGIN:VTIMEZONE
TZID:UTC
END:VTIMEZONE
BEGIN:VEVENT
UID:1fb81026-fc0b-48c3-9ab7-b08b7e1dad5a
DTSTAMP:20260421T142510Z
CATEGORIES:TERAPIA STAWÓW SSŻ
CLASS:PUBLIC
DESCRIPTION;ALTREP="CID:<FFFF__=0ABBE548DFE235B58f9e8a93d@coffeebean.com>":
 Temat: Pacjent z dysfunkcją układu żucia. Diagnostyka\, terapia\, stabiliz
 acja \nWykładowca: lek. dent. Krzysztof Adamowicz \nCena: 750 zł\;\nPunkty
  edukacyjne: 6 pkt.\nData: 6 grudnia 2024 r. godz. 10.00-17.30\nMiejsce: H
 otel Lord\, Warszawa\, Al. Krakowska 218\n\nSzczegółowy plan zajęć\n10.00 
 – 11.30 Wykład 1. Pacjent z dysfunkcją układu żucia\, czyli jaki? Meandry 
 diagnostyki \n\nmetody rozpoznawania dysfunkcji\;\nschemat wywiadu i badan
 ia przedmiotowego\;\nanaliza rtg bocznego szyi i rtg celowanego na ząb obr
 otnika\;\npozycja szczęk na rtg ssż – metodyka w zarysie\;\nanaliza badań 
 axiograficznych\;\nanaliza badań emg\;\npodział na grupy terapeutyczne.\n
 \n11.30 – 11.45 Przerwa kawowa\n11.45 – 13. 15 Wykład 2. Stabilność czaszk
 owo-kręgowa i czaszkowo-żuchwowa zasady współpracy z fizjoterapeutą\, wg k
 oncepcji Rocabado\n\nwprowadzenie do koncepcji Rocabado\;\nrozpoznawanie r
 otacji głowy\;\nwpływ rotacji na mechanikę pracy stawów skroniowo-żuchwowy
 ch\;\nzasady współpracy z fizjoterapeutą\;\nzasady współpracy z chiroprakt
 ykiem\;\nkompresja krążka w ssż powstała w wyniku rotacji\;\ndziałanie ant
 ykompresyjne aparatów okluzyjnych typu fast link.\n\n13.15 – 14.00 Lunch\n
 14.00 – 15. 30 Wykład 3. Skuteczna szynoterapia w podstawowych rodzajach d
 ysfunkcji \n\nproponowana systematyka aparatów okluzyjnych\;\ndlaczego apa
 raty drukowane i frezowane\;\ndeprogramatory przednie – omówienie\;\napara
 ty neuromięśniowe – podział i omówienie poszczególnych aparatów\;\naparaty
  okluzyjne wg koncepcko Rocabado\;\naparaty typu fast link – omówienie kon
 cepcji\;\naparaty stabilizacyjne.\n\n15.30 – 15.45 Przerwa kawowa\n15.45 –
  17. 15 Wykład 4. Stabilizacja pacjentów dysfunkcyjnych za pomocą techniki
  flow injection\n\nstabilizacja pacjentów z dysfunkcją – po co? Kiedy? Jak
 ?\nmetody ustalenia zoptymalizowanej relacji centralnej CR\,\nmetody rejes
 tracji CR – protokół analogowo – cyfrowy i cyfrowy\,\nzastosowanie flow in
 jection do stabilizacji pacjentów dysfunkcyjnych\,\nprzygotowanie pacjenta
  do dokumentacji zdjęciowej - projekty estetyczne z planowaną zmianą pozyc
 ji szczęk\,\nkontrola kontaktów po rekonstrukcji – dostępne metody.\n\n17.
 15 17.30 – Zakończenie. Q&amp\;A\nCena za kurs nie obejmuje noclegu. Nocle
 g należy zarezerwować indywidualnie w hotelu (tel. 22 574 20 00).\nInforma
 cje i zapisy:Aleksandra Kowalińska\, +48 509 912 963\, prenumerata@spsmedi
 a.pl\nPŁATNOŚCI:Prosimy kwotę za szkolenie wpłacić na konto:31 1090 1870 0
 000 0001 3335 2731SPS-Piotr SzymańskiZ. Modzelewskiego 67/402-679 Warszawa
 \nNa podstawie otrzymanej płatności otrzymają Państwo fakturę na maila\, z
  którego nastąpiła rejestracja na szkolenie.
DTSTART:20241206T100000Z
DTEND:20241206T171500Z
GEO:+52.186783;+20.955732
LOCATION:Hotel Lord\, Warszawa\, Al. Krakowska 218
ORGANIZER;CN=:prenumerata@spsmedia.pl
SEQUENCE:1
SUMMARY:Pacjent z dysfunkcją układu żucia. Diagnostyka\, terapia\, stabiliz
 acja
TRANSP:OPAQUE
URL:https://szkolastomatologii.pl/historia-szkolen/40-pacjent-z-dysfunkcja-
 ukladu-zucia-diagnostyka-terapia-stabilizacja
END:VEVENT
END:VCALENDAR
