BEGIN:VCALENDAR
VERSION:2.0
PRODID:-//szkolastomatologii.pl//NONSGML kigkonsult.se iCalcreator 2.30.10/
 /
CALSCALE:GREGORIAN
METHOD:PUBLISH
UID:e4ed351f-fb04-4b3e-8d43-b40aa8be4863
X-WR-CALNAME:iCagenda
X-WR-CALDESC:Event Management Extension for Joomla!
X-WR-RELCALID:3E26604A-50F4-4449-8B3E-E4F4932D05B5
X-WR-TIMEZONE:UTC
BEGIN:VTIMEZONE
TZID:UTC
END:VTIMEZONE
BEGIN:VEVENT
UID:1df940ef-6bfa-4ba2-b0b0-4760eceb09b3
DTSTAMP:20260421T141957Z
CATEGORIES:CYFROWA STOMATOLOGIA 3D
CLASS:PUBLIC
DESCRIPTION;ALTREP="CID:<FFFF__=0ABBE548DFE235B58f9e8a93d@coffeebean.com>":
 Cyfrowe intro\nCyfrowa protetyka dla każdego\nKurs wprowadzający w cyfrową
  stomatologię dla tych\, którzy dopiero zaczęli przygodę z cyfrową protety
 ką oraz dla tych którzy się jeszcze wahają.\nCzy to już czas na cyfrową re
 wolucję?\nSobota 28 Września 2024\nLublin Al. Warszawska 53 (Laboratorium 
 CEREClab)\nKoszt szkolenia: 1500 zł\nProwadzący: \n\ndr n. med. Marcin Kęd
 ra\nlek. dent. Wojciech Kędra\nlek. dent. Nazar Kaliapuh\nAleksandra Tobia
 ńska\n\nHarmonogram\n8:30 Przywitanie uczestników\n\nKrótkie wprowadzenie 
 i zapoznanie z programem szkolenia.\n\n8:45 Porównanie: protetyka cyfrowa 
 a analogowa\n\nWprowadzenie do cyfrowej protetyki.\nJak skaner wewnątrzust
 ny i system CAD/CAM zmienił praktykę stomatologiczną?\nOmówienie kluczowyc
 h różnic między protetyką cyfrową a analogową.\nKorzyści i wyzwania związa
 ne z cyfrową protetyką.\nCzy technologia CAD/CAM bardzo zmienia nawyki lek
 arza z długoletnim stażem?\n\n10:00 Skanery wewnątrzustne\n\nCyfrowy wycis
 k - Jak okiełznać skaner wewnątrzustny? Porównanie najpopularniejszych ska
 nerów wewnątrzustnych pod względem ergonomii i ich dokładności. Skanery la
 ptopowe vs. konsole. (Primescan\, 3Disc OVO\, Aidite Rapid 3\, Medit i700\
 , Omnicam\, Cameo-Shining)\nOmówienie różnic technologicznych i zastosowań
  klinicznych.\nPrzykładowe skanowanie różnych rodzajów prac / Tips&amp\;Tr
 icks.\n\n11:00 Cyfrowy Workflow\n\nProcedura poprawnego skanowania: Jak wy
 gląda odpowiedni skan? Kiedy mogę już wysłać cyfrowy wycisk do laboratoriu
 m?\n\n\nProtokół duch (BioCopy).\nStomatologia cyfrowa a okluzja.\nProtokó
 ł skanowania pod rozległe odbudowy protetyczne.\nKomunikacja lekarz – tech
 nik: W drodze do cyfrowej doskonałości - protokół udanej komunikacji cyfro
 wy dentysta - cyfrowy technik na miarę XXI wieku.\nOmówienie przypadków: A
 naliza rzeczywistych przypadków klinicznych.\n\n12:00 Materiałoznawstwo w 
 cyfrowej protetyce\n\nWprowadzenie do materiałów stosowanych w cyfrowej pr
 otetyce.\nWłaściwości i zastosowania różnych materiałów.\nNowości i innowa
 cje w materiałoznawstwie.\nNOWOŚĆ: Adhezja w cyrkonie\, czyli wykonywanie 
 licówek z cyrkonu jest już możliwe.\n\n 13:30 Lunch\n\nPrzerwa obiadowa\n
 \n14:00 Wstęp do cyfrowej implanto – protetyki\n\nPodstawy cyfrowej implan
 to-protetyki.\nScanbody w cyfrowej implanto-protetyce.\nPraktyczne wskazów
 ki.\n\n15:30 Poprawna dokumentacja fotograficzna w kontekście leczenia pro
 tetycznego\n\nTechniki i sprzęt do dokumentacji fotograficznej (aparat vs 
 smartfon).\nZnaczenie dokumentacji w procesie leczenia.\nPraktyczne wskazó
 wki.\n\n16:30 Nakładki ortodontyczne w procesie leczenia przedprotetyczneg
 o\n\nCzy protetycy mogą wykonywać prostą ortodoncje nakładkową?\nZastosowa
 nie nakładek ortodontycznych.\nStudium przypadków.\n\n17:30 Dyskusja\n\nSe
 sja pytań i odpowiedzi z wykładowcami.\nOmówienie problemów i wyzwań z pra
 ktyki uczestników.\nWymiana doświadczeń.\n\n19:00 Zakończenie\n\nPodsumowa
 nie szkolenia.\nWręczenie certyfikatów uczestnictwa.\n\n \nDodatkowe Infor
 macje\n\nKompleksowe szkolenie: Szkolenie obejmuje zarówno teorię\, jak i 
 praktyczne zajęcia.\nSesja pytań i odpowiedzi: Uczestnicy mogą przygotować
  zestaw do 3 pytań\,\n\nna które prowadzący odpowiedzą podczas szkolenia.
 \n\nTestowanie skanerów: Uczestnicy będą mieli możliwość przetestowania 6 
 różnych\n\nmodeli skanerów:\n\nSIRONA PRIMESCAN\nMEDIT i700\nOMNICAM 2.0\n
 OMNICAM 1.0 Update\nHERON OVO\nCAMEO ELEGANT 3\nAidite Rapid 3\n\n \nPreze
 nt dla uczestników\n\nKażdy uczestnik otrzyma zestaw: 2 x Scanbody pod ded
 ykowany system\, 1 x śrubokręt oraz pudełko do późniejszej rozbudowy - a t
 o wszystko od KTI Implants.\nKażdy uczestnik\, który jeszcze nie współprac
 uje z CEREClab\, otrzyma na miesiąc skaner\nwewnątrzustny do przetestowani
 a - Aidite Rapid 3 lub Heron OVO.\n
DTSTART:20241116T090000Z
DTEND:20241116T193000Z
GEO:00;0
LOCATION:Laboratorium CEREClab. Lublin. Al. Warszawska 53
ORGANIZER;CN=:prenumerata@spsmedia.pl
SEQUENCE:1
SUMMARY:Cyfrowe intro – 'Cyfrowa protetyka dla każdego”
TRANSP:OPAQUE
URL:https://szkolastomatologii.pl/historia-szkolen/45-cyfrowe-intro-cyfrowa
 -protetyka-dla-kazdego
END:VEVENT
END:VCALENDAR
