BEGIN:VCALENDAR
VERSION:2.0
PRODID:-//szkolastomatologii.pl//NONSGML kigkonsult.se iCalcreator 2.30.10/
 /
CALSCALE:GREGORIAN
METHOD:PUBLISH
UID:3362c521-de48-4ac9-9856-2960e485a54c
X-WR-CALNAME:iCagenda
X-WR-CALDESC:Event Management Extension for Joomla!
X-WR-RELCALID:3E26604A-50F4-4449-8B3E-E4F4932D05B5
X-WR-TIMEZONE:UTC
BEGIN:VTIMEZONE
TZID:UTC
END:VTIMEZONE
BEGIN:VEVENT
UID:dfb580ea-8a4b-45e1-89fd-4ae6aa244f39
DTSTAMP:20260421T142603Z
CATEGORIES:OKLUZJA
CLASS:PUBLIC
DESCRIPTION;ALTREP="CID:<FFFF__=0ABBE548DFE235B58f9e8a93d@coffeebean.com>":
 Prowadzący: lek. dent. Dominika Pietrzak\, mgr Natalia Kojder\, logopeda K
 atarzyna Lewsza\; \nCena: 890 zł\nTermin: 6 września 2024 piątek 9:00-17:0
 0\nPunkty edukacyjne: 7 pkt.\n\nPodstawowe zagadnienia poruszane podczas s
 zkolenia:\nLOGOPEDIA: \nFunkcje prymarne na fotelu stomatologicznym (oddyc
 hanie\, połykanie\, żucie) \nAnkyloglosja - kiedy kierować na podcięcie wę
 dzidełka języka \nPozycja języka a praca stawów skroniowo-żuchwowych \nFIZ
 JOTERAPIA: \nRola fizjoterapii w procesie szynoterapii \nNajczęstsze dysfu
 nkcje w obrębie narządu żucia \nZwichnięcia i podwichnięcia krążka stawu s
 kroniowo-żuchwowego \nPROTETYKA: \nSzynoterapia okiem protetyka \nPlan lec
 zenia interdycyplinarnego - współpraca między specjalistami \nRejestracja 
 pacjenta po zakończeniu procesu szynoterapii\n \nProgram\n9:00 - 11:00 LOG
 OPEDIA:\n\nFunkcje prymarne – jak powinno być?\nNajczęstsze zaburzenia.\nJ
 ak zdiagnozować na fotelu stomatologicznym pozycję spoczynkową języka\, pr
 awidłowość połykania i żucia?\nOddech – jak wpływa na pracę języka i posta
 wę ciała\, objawy niedotlenienia mózgu\, formy terapii – zaklejanie\, tapi
 ng\, proste ćwiczenia oddechowe: pauzy wydechowe\, oddech 360 st.\nTechnik
 i do pokazania na fotelu stomatologicznym: wklejanie\, rozmasowanie dna ja
 my ustnej.\nPozycja spoczynkowa języka\, a praca ssż.\n\n11:00 - 11:15  Pr
 zerwa kawowa\n11:15 - 12:15  LOGOPEDIA\n\nSymetria żucia i jego znaczenie 
 w kontekście bólów twarzoczaszki i głowy (napięciowe bóle).\nSymetria ułoż
 enia języka – symetria żucia – praca ssż.\nAnkyloglosja – diagnoza i odnie
 sienie do pracy i stabilności ssż.\n\n12:15 - 13:15  FIZJOTERAPIA\n\nRola 
 fizjo w procesie szynoterapii i protetyki.\nPraca fizjo w zaburzeniach sta
 wu s-ż.\nNajczęstsze dysfunkcje w obrębie narządu żucia.\n\n13:15 – 13:45 
  przerwa obiadowa\n13:45 – 14:45  FIZJOTERAPIA\n\nPostępowanie fizjo w oma
 wianych dysfunkcjach.\nPodział bruksizmu na nocny i dzienny.\nZwichnięcia 
 i podwichnięcia w ssż.\n\n14:45 – 15:45 PROTETYKA\n\nSzynoterapia okiem pr
 otetyka.\nKomunikacja między specjalistami.\nJak lekarz nadzoruje proces r
 ehabilitacji pacjenta?\n\n15:45 – 16:00 Przerwa kawowa\n16:00 – 17:00 - PR
 OTETYKA\n\nPlan leczenia interdycyplinarnego – jak stworzyć plan leczenia 
 pacjenta: kiedy kierujemy do fizjoterapeuty? kiedy kierujemy do logopedy? 
 kiedy kierujemy do protetyka?\nJak rejestrować pacjenta po zakończeniu pro
 cesu szynoterapii.\nNajciekawsze przypadki kliniczne.\n\nZapisy i informac
 je:\nAleksandra Kowalińska\, +48 509 912 963\, prenumerata@spsmedia.pl\nPŁ
 ATNOŚCI:\nProsimy kwotę za szkolenie wpłacić na konto:\n31 1090 1870 0000 
 0001 3335 2731\nSPS-Piotr Szymański\nZ. Modzelewskiego 67/4\n02-679 Warsza
 wa\n \nNa podstawie otrzymanej płatności otrzymają Państwo fakturę na mail
 a\, z którego nastąpiła rejestracja na szkolenie.\n\nCena za kurs nie obej
 muje noclegu. Nocleg należy zarezerwować indywidualnie w hotelu (tel. 22 5
 74 20 00). Na hasło Zjazd Lekarzy Dentystów hotel udziela zniżki na nocleg
 i.
DTSTART:20241206T090000Z
DTEND:20241206T170000Z
GEO:+52.186707;+20.955727
LOCATION:Hotel Lord\, Warszawa\, Al. Krakowska 218
ORGANIZER;CN=:prenumerata@spsmedia.pl
SEQUENCE:1
SUMMARY:Interdyscyplinarna praca z pacjentem z dysfunkcjami w obrębie narzą
 du żucia: protetyka\, logopedia\, fizjoterapia stomatologiczna.
TRANSP:OPAQUE
URL:https://szkolastomatologii.pl/historia-szkolen/47-interdyscyplinarna-pr
 aca-z-pacjentem-z-dysfunkcjami-w-obrebie-narzadu-zucia-protetyka-logopedia
 -fizjoterapia-stomatologiczna
END:VEVENT
END:VCALENDAR
