BEGIN:VCALENDAR
VERSION:2.0
PRODID:-//szkolastomatologii.pl//NONSGML kigkonsult.se iCalcreator 2.30.10/
 /
CALSCALE:GREGORIAN
METHOD:PUBLISH
UID:d9dc004a-7605-4d26-9237-46bb12a490be
X-WR-CALNAME:iCagenda
X-WR-CALDESC:Event Management Extension for Joomla!
X-WR-RELCALID:3E26604A-50F4-4449-8B3E-E4F4932D05B5
X-WR-TIMEZONE:UTC
BEGIN:VTIMEZONE
TZID:UTC
END:VTIMEZONE
BEGIN:VEVENT
UID:b5c61327-4017-4e97-91a6-09366aa03ef7
DTSTAMP:20260421T141935Z
CATEGORIES:IMPLANTOPROTETYKA
CLASS:PUBLIC
DESCRIPTION;ALTREP="CID:<FFFF__=0ABBE548DFE235B58f9e8a93d@coffeebean.com>":
 Cyfrowa implantoprotetyka 2.0\nDołącz do grona profesjonalistów i odkryj n
 ajnowsze techniki oraz rozwiązania w dziedzinie cyfrowej protetyki.\nNasze
  szkolenie skupia się na rozbudowanej tematyce zaawansowanych implantoprot
 etycznych rozwiązań\, z naciskiem na zastosowanie nowoczesnych skanerów we
 wnątrzustnych.\nSobota – Niedziela 12-13 Października 2024 \nLublin Al. Wa
 rszawska 53 (Laboratorium CEREClab)\nKoszt szkolenia: 2900 zł\n \nProwadzą
 cy: \n\ndr hab. n. med. Jan Pietruski\nDr n. med. Marcin Kędra\ndent. Wojc
 iech Kędra\ndent. Jacek Maj\ndent. Nazar Kaliapuh\ndent. Bartosz Pecyna\nA
 leksandra Tobiańska\n\n \nDzień 112 października\n8:45 Przywitanie uczestn
 ików\n\nRejestracja\nKrótkie wprowadzenie\n\n9:00 Skaner wewnątrzustny w c
 yfrowej implantoprotetyce\n\nCyfrowy wycisk - jak okiełznać skaner wewnątr
 zustny. Wskazówki dotyczące\n\nskanowania poszczególnymi modelami.\n\nJak 
 powinien wyglądać prawidłowo wykonany skan? Kiedy mogę wysłać cyfrowy\n\nw
 ycisk do laboratorium?\n\nProcedury skanowania dla różnych typów prac:\n\n
 - Pojedyncze prace na implantach\n- Belki\n- Prace na multiunitach\n- Prac
 e kombinowane\n- Prace All-on-4 / All-on-6\n10:30 Materiałoznawstwo w cyfr
 owej protetyce\n\nMateriały do frezowania w CAD/CAM - jak właściwie wybrać
 ?\n\n(Właściwości biomechaniczne w odniesieniu do właściwości odtwarzanych
  tkanek).\n\nZasady projektowania prac protetycznych z uwzględnieniem mate
 riałoznawstwa.\nNOWOŚĆ: Adhezja w cyrkonie\, czyli cyrkonowe licówki są ju
 ż możliwe.\n\n(LiSi Connect) – innowacja od Aidite.\n11:45 Komponenty w cy
 frowej implantoprotetyce\n\nRodzaje łączników: jak dobrać właściwe spośród
  standardowych\, indywidualnych\, pośrednich i hybrydowych?\nPrzedstawieni
 e systemu DAS.\nOmówienie systemów do skanowania Reference Scanbody oraz O
 P Scanbody.\nWykonywanie skomplikowanych prac protetycznych z wykorzystani
 em najnowszych rozwiązań Multiunit DAS.\nOmówienie systemu do skanowania D
 AS all-on-X\, z uwzględnieniem Peek PINS oraz CAPS System.\nOmówienie przy
 padków z wykorzystaniem systemu Peek PINS.\n\n14:00 Lunch\n\nPrzerwa obiad
 owa\n\n15:00 Cyfrowy workflow w implantoprotetyce: komunikacja lekarz – te
 chnik\n\nKluczowe aspekty współpracy.\nNajczęściej popełniane błędy.\nAnal
 iza rzeczywistych przypadków klinicznych.\n\n16:00 Poprawna dokumentacja f
 otograficzna w kontekście leczenia protetycznego\n\nTechniki i sprzęt do d
 okumentacji fotograficznej (aparat vs smartfon).\nZnaczenie dokumentacji w
  procesie leczenia implantoprotetycznego.\nPraktyczne wskazówki.\nProjekto
 wanie uśmiechu w dobie cyfryzacji (Smile design/Digital waxup/Mockup) - Pr
 zegląd akcesoriów\, dzięki którym bez dodatkowych kosztów możemy zaplanowa
 ć uśmiech\, który zaakceptuje pacjent.\n\n20:00 Kolacja\nDzień 2 - 13 paźd
 ziernika\n9:00 Jak przeszedłem z analogu na cyfrową stomatologię\n\nDoświa
 dczenia i refleksje prof. Jana Pietruskiego na temat transformacji z analo
 gu do cyfry.\n\n9:45 Okluzja w implantoprotetyce\n\nStabilność okluzji u p
 acjentów rehabilitowanych implantoprotetycznie.\nObserwacje długoczasowe i
  kontrola stabilności okluzji na wizytach kontrolnych.\nOcena ryzyka lecze
 nia implantoprotetycznego.\nProfil wyłaniania: definicja i znaczenie.\nPow
 ielanie profilu wyłaniania z części pod śluzówkowej.\n\n11:00 Tkanki miękk
 ie w cyfrowej implantoprotetyce\n\nWpływ poszczególnych łącznikow implanto
 logicznych na tkanki.\nMateriały Cad/Cam w implantoprotetyce i ich wplyw n
 a tkanki miękkie.\n\n12:00 Nakładki ortodontyczne w procesie leczenia prze
 dprotetycznego\n\nCzy protetycy mogą wykonywać prostą ortodoncje nakładkow
 ą?\nZastosowanie nakładek ortodontycznych.\nStudium przypadków.\n\n13:00 L
 unch\n\nPrzerwa obiadowa\n\n14:00 Dyskusja\n\nSesja pytań i odpowiedzi z w
 ykładowcami.\nOmówienie problemów i wyzwań z praktyki uczestników.\nWymian
 a doświadczeń.\n\n16:00 Zakończenie\n\nPodsumowanie szkolenia.\nWręczenie 
 certyfikatów uczestnictwa.\n\n \nDodatkowe Informacje\n\nKompleksowe szkol
 enie: Szkolenie obejmuje zarówno teorię\, jak i praktyczne zajęcia.\nSesja
  pytań i odpowiedzi: Uczestnicy mogą przygotować zestaw do 3 pytań\, na kt
 óre prowadzący odpowiedzą podczas szkolenia.\n\n\nTestowanie skanerów: Ucz
 estnicy będą mieli możliwość przetestowania 6 różnychmodeli skanerów:\n\n
 \nSIRONA PRIMESCAN\nMEDIT i700\nOMNICAM 2.0\nOMNICAM 1.0 Update\nHERON OVO
 \nCAMEO ELEGANT 3\nAidite Rapid 3\n\nPrezent dla uczestników\n\nKażdy ucze
 stnik otrzyma zestaw: 2 x Scanbody pod dedykowany system\, 1 x śrubokręt o
 raz pudełko do późniejszej rozbudowy - a to wszystko od KTI Implants.\nKaż
 dy uczestnik\, który jeszcze nie współpracuje z CEREClab\, otrzyma na mies
 iąc skaner\nwewnątrzustny do przetestowania - Aidite Rapid 3 lub Heron OVO
 .\n\n \n \n \n 
DTSTART:20241012T084500Z
DTEND:20241013T160000Z
GEO:00;0
LOCATION:Laboratorium CEREClab. Lublin. Al. Warszawska 53
ORGANIZER;CN=:prenumerata@spsmedia.pl
SEQUENCE:1
SUMMARY:Cyfrowa implantoprotetyka 2.0
TRANSP:OPAQUE
URL:https://szkolastomatologii.pl/historia-szkolen/51-cyfrowa-implantoprote
 tyka-2-0
END:VEVENT
END:VCALENDAR
