BEGIN:VCALENDAR
VERSION:2.0
PRODID:-//szkolastomatologii.pl//NONSGML kigkonsult.se iCalcreator 2.30.10/
 /
CALSCALE:GREGORIAN
METHOD:PUBLISH
UID:d72dc0bf-376d-4d69-b9ca-4d78ca04cd49
X-WR-CALNAME:iCagenda
X-WR-CALDESC:Event Management Extension for Joomla!
X-WR-RELCALID:3E26604A-50F4-4449-8B3E-E4F4932D05B5
X-WR-TIMEZONE:UTC
BEGIN:VTIMEZONE
TZID:UTC
END:VTIMEZONE
BEGIN:VEVENT
UID:e19be8e0-f2ce-4e81-9c1b-271cc648d75b
DTSTAMP:20260421T142603Z
CATEGORIES:TERAPIA STAWÓW SSŻ
CLASS:PUBLIC
DESCRIPTION;ALTREP="CID:<FFFF__=0ABBE548DFE235B58f9e8a93d@coffeebean.com>":
 Temat: Podstawy okluzji: okluzji funkcjonalna\, przygotowanie pacjenta do 
 rekonstrukcji\, zasady artykulacji\nProwadzący: lek. dent. Krzysztof Adamo
 wicz\;\nCena: 750 zł\;\n Punkty edukacyjne: 6 pkt.\nMiejsce: Warszawa\, Ho
 tel Lord ****\; al. Krakowska 218.\nW niedzielę 10 grudnia odbędzie się wa
 rsztat praktyczny z tego tematu. Cena łączna za dwa dni szkolenia (sobotni
  wykład + niedzielny warsztat) to 2200 zł. Zapisy na warsztat proszę klikn
 ąć tutaj: Warsztat praktyczny: ustalenie i rejestracja neuromięśniowej poz
 ycji terapeutycznej w protokole analogowym i analogowo-cyfrowym w celu wyk
 onania podstawowego aparatu nocnego do wstępnej terapii dysfunkcji.\n \n\n
 9.30 – 11.15 Wykład: Harmonia w okluzji funkcjonalnej. Po co? Kiedy? Jak? 
 Podstawowe informacje na temat okluzji i zasady jej stosowania.\n\nHarmoni
 a w okluzji funkcjonalnej – co to jest i dlaczego jest tak istotna?\nDlacz
 ego powinniśmy zwracać uwagę na harmonię w układzie żucia?\nWpływ okluzji 
 na funkcjonowanie układu czaszkowo-szczękowo-szyjnego.\nSchematy wstępując
 e i zstępujące w dysfunkcjach czaszkowo-szczękowo-szyjnych.\nMechanika ukł
 adu żucia na prostych przykładach.\nAdaptacja – magiczne słowo.\nKiedy bez
 względnie musimy interweniować? – nagłe przypadki.\nPrzypadki z długą hist
 orią – postępowanie diagnostyczne\, czyli co powinniśmy sprawdzić w pierws
 zej kolejności?\nCo możemy zrobić z bólem okluzyjnym\, gdy nie dysponujemy
  żadnym specjalistycznym urządzeniem?\nProste zasady postępowania okluzyjn
 ego\, które sprawdzą się w każdym gabinecie.\nKiedy prosić o pomoc bardzie
 j doświadczonego kolegę\, a które przypadki możemy rozwiązywać sami\nApara
 t J5 – złoty standard we wstępnym leczeniu dysfunkcji.\n\n11.15 – 11. 30 P
 rzerwa kawowa \n11.30 – 13.30 Wykład: Przygotowanie pacjenta z utraconą wy
 sokością zwarcia do minimalnie inwazyjnej rekonstrukcji protetycznej z zas
 tosowaniem techniki flow injection w zgodzie z zasadami okluzji funkcjonal
 nej. \n\nPacjent z utraconą wysokością żucia\, a dysfunkcja czaszkowo-szki
 eletowo-szyjna.\nDlaczego przed jakąkolwiek ingerencją protetyczną bądź or
 todontyczną należy w specjalny sposób przygotować pacjentów z dysfunkcją.
 \nCo gdyby nie istniała adaptacja?\nKiedy możemy stosować technikę flow in
 jection u pacjentów z dysfunkcją?\nKiedy stosujemy rekonstrukcję w neuromi
 ęśniowej pozycji szczęk\, a kiedy w pozycji ustalonej przez aksjografię lu
 b kinezjografię?\nPopularne systemy pomiarowe oparte na algorytmach ustala
 jących proponowaną pozycję terapeutyczną.\nZdecyduj\, jaki sposób terapii 
 wybrać?\nPozycja terapeutyczna a pozycja do odbudowy.\nPrzeniesienie ustal
 onej pozycji do odbudowy z fazy planowania – do fazy rekonstrukcji za pomo
 cą flow injection – protokół analogowo-cyfrowy i protokół cyfrowy.\nPodsta
 wowe zasady wykonywania odbudów flow injection.\nProjektowanie cyfrowe wir
 tualnych wax-up’ów – ważny element udanej rekonstrukcji.\n\n13.30 -14.30 L
 unch\n14. 30 – 16. 30 WYKŁAD: Artykulatory i artykulacja - Po co? Kiedy? J
 ak?\n\nPo co stosujemy artykulatory? W których przypadkach ich zastosowani
 e jest wręcz konieczne?\nArtykulatory analogowe\, jaki model wybrać? Artyk
 ulatory wirtualne – zalety i wady.\nProgramowanie artykulatorów analogowyc
 h indywidualnych typu arcon  i wirtualnych.\nSystem odwrotnego cementowani
 a modeli bez luków twarzowych. Kiedy artykulator niezastąpiony?\nSposoby k
 onwersji zgryzów konstrukcyjnych do programów cad.\nZasady kontroli i kons
 truowania prowadzenia zębowego. Okluzja statyczna i dynamiczna a artykulat
 ory.\nKontrola dokładności wykonywania prac protetycznych i aparatów okluz
 yjnych za pomocą kalki.\nMożliwe błędy i sposoby ich eliminacji.\n\n16. 30
  – 17.00 Sesja Q&amp\;A\, zakończenie\n \n\nCena za kurs nie obejmuje nocl
 egu. Nocleg należy zarezerwować indywidualnie w hotelu (tel. 22 574 20 00)
 . Na hasło Zjazd Lekarzy Dentystów hotel udziela zniżki na noclegi.\nOpłat
 ę za kurs proszę wnieść na podstawie faktury proforma\, którą Państwo otrz
 ymają po wypełnieniu zgłoszenia. Konto\, na które należy wpłacić należność
  za kurs to:\nSPS - Piotr Szymański numer: 31 1090 1870 0000 0001 3335 273
 1\nSzczegółowych informacji udziela Aleksandra Kowalińska tel. +48 509 912
  963  w godz. 9:00-16:00.\n \nO prelegencie: \nlek. dent. Krzysztof Adamow
 icz \nUkończył Pomorską Akademię Medyczną w Szczecinie w 1988 roku. Od 199
 2 roku kieruje Usługowo-Handlową Firmą Medyczną Caldent w Grudziądzu. W la
 tach 1996-2010 był uczestnikiem wielu kursów i wykładów poświęconych temat
 yce dysfunkcji narządu żucia oraz protetyce i stomatologii estetycznej. Od
  1996 roku zajął się szerzej diagnostyką i terapią pacjentów z dysfunkcją 
 stosując początkowo głównie klasyczne szyny Michigan.
DTSTART:20231209T093000Z
DTEND:20231209T170000Z
GEO:00;0
LOCATION:Miejsce: Warszawa\, Hotel Lord ****\; al. Krakowska 218.
ORGANIZER;CN=:prenumerata@spsmedia.pl
SEQUENCE:1
SUMMARY:Podstawy okluzji: okluzja funkcjonalna\, przygotowanie pacjenta do 
 rekonstrukcji\, zasady artykulacji
TRANSP:OPAQUE
URL:https://szkolastomatologii.pl/historia-szkolen/6-podstawy-okluzji-okluz
 ji-funkcjonalna-przygotowanie-pacjenta-do-rekonstrukcji-zasady-artykulacji
END:VEVENT
END:VCALENDAR
