BEGIN:VCALENDAR
VERSION:2.0
PRODID:-//szkolastomatologii.pl//NONSGML kigkonsult.se iCalcreator 2.30.10/
 /
CALSCALE:GREGORIAN
METHOD:PUBLISH
UID:ff122c90-96c2-41aa-866d-c2308cd78d04
X-WR-CALNAME:iCagenda
X-WR-CALDESC:Event Management Extension for Joomla!
X-WR-RELCALID:3E26604A-50F4-4449-8B3E-E4F4932D05B5
X-WR-TIMEZONE:UTC
BEGIN:VTIMEZONE
TZID:UTC
END:VTIMEZONE
BEGIN:VEVENT
UID:8d8dda1f-5f10-4def-b972-90777f365dbb
DTSTAMP:20260421T141958Z
CATEGORIES:ENDODONCJA
CLASS:PUBLIC
DESCRIPTION;ALTREP="CID:<FFFF__=0ABBE548DFE235B58f9e8a93d@coffeebean.com>":
 Temat: Endodoncja w nowym ujęciu: endodoncja pierwotna\, reendo\nProwadząc
 y: prof. Halina Pawlicka\, dr n. med. Katarzyna Fabjańska\, dr n. med. Aga
 ta Koprowicz.\nCena: 650 zł.\nPunkty edukacyjne: 5 pkt.\nMiejsce: Hotel Lo
 rd\, Warszawa Al. Krakowska 218\n\nPlan szczegółowy\n9.30 - 11.30\nProf. H
 alina Pawlicka:   Zmiana  paradygmatów w endododncji\n\nEndodoncja jako je
 dność strukturalno-funkcjonalna.\nZalety zachowania miazgi zęba w całości 
 lub w jej części.\nMetody postępowania.\nLeczenie nieodwracalnych uszkodze
 ń miazgi.\n\n11.30-12.00 Przerwa kawowa\n12.00 - 14.00\nDr n. med. Katarzy
 na Fabjańska: Reendo w aspekcie klinicznym\nW trakcie wykładu omówione będ
 ą kliniczne aspekty przeprowadzania powtórnego leczenia kanałowego. Przedy
 skutujemy  wskazania i przeciwwskazania do przeprowadzenia ponownego lecze
 nia oraz sytuacje\, w których lepiej rozważyć podejście mikrochirurgiczne.
  Prelegentka zaproponuje rozwiązania\, które sprawdzają się w jej praktyce
  klinicznej oraz zdradzi\, w jaki sposób radzić sobie z napotkanymi trudno
 ściami. Zaproponowane algorytmy mają na celu ułatwienie przeprowadzania pr
 ocedur gotowe do wdrożenia przy kolejnym pacjencie.\n14.00- 15.00 Lunch\n1
 5.00 - 16.30Dr n. med. Agata Koprowicz: Czynniki ryzyka w trakcje pierwotn
 ego leczenia endodotycznego\nInfekcja bakteryjna jest główną przyczyną zap
 alenia miazgi i przy zbyt późno podjętych działaniach skutkuje jej obumarc
 iem. W takiej sytuacji chemo-mechaniczne opracowanie systemu kanałowego st
 anowi etap leczenia\, którego celem jest pozbycie się bakterii\, ich produ
 któw przemiany materii oraz martwej miazgi. Sukces zabiegów endodontycznyc
 h w przypadku leczenia pierwotnego oceniany jest na prawie 90%. Jednakże w
  trakcie leczenia kanałowego mogą wystąpić komplikacje będące skutkiem mię
 dzy innymi niewłaściwej metody opracowania kanału\, niewłaściwego wyboru n
 arzędzi endodontycznych na danym etapie leczenia czy braku wykonania prost
 oliniowego dostępu do kanału. \nAby zwiększyć szansę na osiągnięcie sukces
 u terapeutycznego należy zwrócić uwagę już na początkowe etapy leczenia ka
 nałowego\, tzn. opracowanie komory i ujść kanałowych. Kolejnym ważnym czyn
 nikiem jest odpowiednia praca zarówno narzędziami ręcznymi\, jak i maszyno
 wymi. Potwierdzenie drożności wierzchołkowej jest nieodłącznym elementem t
 ego etapu. Na powodzenie leczenia mają również wpływ: warunki anatomiczne\
 , odpowiednie instrumentarium\, ale również współpraca z pacjentem i lekar
 zem prowadzącym (np. protetykiem lub ortodontą). Prezentowane przypadki le
 czenia endodontycznego dają sposobność zapoznania się z algorytmem postępo
 wania w trudnych sytuacjach klinicznych\, analizy ryzyka leczenia\, dyskus
 ji oraz refleksji nad możliwymi czynnikami\, które zapobiegają powikłaniom
  na etapie pierwotnego leczenia kanałowego. \n \n\nCena za kurs nie obejmu
 je noclegu. Nocleg należy zarezerwować indywidualnie w hotelu (tel. 22 574
  20 00). Na hasło Zjazd Lekarzy Dentystów hotel udziela zniżki na noclegi.
 \nOpłatę za kurs proszę wnieść na podstawie faktury proforma\, którą Państ
 wo otrzymają po wypełnieniu zgłoszenia. Konto\, na które należy wpłacić na
 leżność za kurs to:\nSPS - Piotr Szymański numer: 31 1090 1870 0000 0001 3
 335 2731\nSzczegółowych informacji udziela Aleksandra Kowalińska tel. +48 
 509 912 963  w godz. 9:00-16:00.
DTSTART:20231210T093000Z
DTEND:20231210T173000Z
GEO:+52.186707;+20.955709
LOCATION:Lord\, 218\, Aleja Krakowska
ORGANIZER;CN=:prenumerata@spsmedia.pl
SEQUENCE:1
SUMMARY:Endodoncja w nowym ujęciu: endodoncja pierwotna\, reendo
TRANSP:OPAQUE
URL:https://szkolastomatologii.pl/historia-szkolen/7-endodoncja-w-nowym-uje
 ciu-endodoncja-pierwotna-reendo
END:VEVENT
END:VCALENDAR
