BEGIN:VCALENDAR
VERSION:2.0
PRODID:-//szkolastomatologii.pl//NONSGML kigkonsult.se iCalcreator 2.30.10/
 /
CALSCALE:GREGORIAN
METHOD:PUBLISH
UID:4227081a-e857-4095-a32d-beed404cff61
X-WR-CALNAME:iCagenda
X-WR-CALDESC:Event Management Extension for Joomla!
X-WR-RELCALID:3E26604A-50F4-4449-8B3E-E4F4932D05B5
X-WR-TIMEZONE:UTC
BEGIN:VTIMEZONE
TZID:UTC
END:VTIMEZONE
BEGIN:VEVENT
UID:1ce36fa4-e762-434c-ba89-5860a419e67e
DTSTAMP:20260421T123736Z
CATEGORIES:CYFROWA STOMATOLOGIA 3D
CLASS:PUBLIC
DESCRIPTION;ALTREP="CID:<FFFF__=0ABBE548DFE235B58f9e8a93d@coffeebean.com>":
 \nTemat: Dental Digital Start - Wprowadzenie do stomatologii cyfrowej. Szk
 olenie z warsztatami praktycznymi\nProwadzący:  mgr Kacper Włodarek – druk
  3D\; Cyprian Seliga\; Łukasz Markiewicz - skanery wewnątrzustne\; lic. te
 ch. mgr Przemysław Grabowski - projektowanie CAD \nCena: 990 zł\nMiejsce: 
 Hotel Lord\, Al Krakowska 218\, Warszawa\nPunkty edu: 7 pkt.\nOpis szkolen
 ia:\nPrzepływ pracy między skanerem wewnątrzustnym\, projektem CAD i druka
 rką 3D w obrębie jednej praktyki dentystycznej.\nIdeą szkolenia DDS jest p
 rzygotowanie lekarz stomatologów do obsługi podstawowych protokołów cyfrow
 ych w obrębie jednej praktyki dentystycznej\, do poziomu samodzielnego uzy
 skiwania wybranych prac protetycznych\, wytwarzanych w technologii addytyw
 nej.\nInformacje oraz umiejętności zdobyte na szkoleniu DDS pozwolą uczest
 nikom w kontrolowany i świadomy sposób implementować do swoich praktyk ora
 z obsługiwać dostępne rozwiązania cyfrowe w zoptymalizowanym przepływie pr
 acy.\nSzkolenie DDS jest dedykowane lekarzom\, którzy chcą wprowadzić lub 
 wprowadzili do swoich praktyk technologie skanowania wewnątrzustnego i/lub
  stomatologicznego druku 3D i chcą zdobyć podstawową wiedzę oraz umiejętno
 ści do obsługi wymienionych protokołów cyfrowych.\n \nPlan zajęć:\n10.00 –
  10.15 Wprowadzenie do tematyki szkolenia \n10.15 – 11.15 Moduł I (część 1
 ) - Skanowanie wewnątrzustne\n\nwprowadzenie do technologii\nzastosowanie 
 skanerów wewnątrzustnych\nobsługa skanera i oprogramowania – wytyczne do e
 fektywnej pracy\, protokoły skanowania\, bezpieczeństwo\nczynniki decydują
 ce o wyborze optymalnego skanera\n\n11.15 – 11.30 Przerwa kawowa\n11.30 – 
 13.00 Moduł I (część 2) - Skanowanie wewnątrzustne\nWARSZTAT PRAKTYCZNY\n
 \nsamodzielne skanowanie wewnątrzustne i obsługa oprogramowania\npraca na 
 modelach ze skanerem wewnątrzustnym (jeden skaner na dwóch uczestników)\n
 \n13.30 – 14.00 Lunch\n14.00 – 15.30  Moduł II – Projektowanie protetyczne
  jako element przepływu pracy między skanem\, a drukiem 3D \n\nwprowadzeni
 e do stomatologicznego projektowania CAD\ndostępne programy CAD do samodzi
 elnego projektowania\nprzedstawienie rozwiązań modeli biznesowych uwzględn
 iających autonomię protetyczną gabinetu stomatologicznego\nWARSZTAT PRKTYC
 ZNY - projektowania przykładowego uzupełnienia protetycznego przez uczestn
 ików (jeden komputer na dwóch uczestników)\n\n15.30 – 15.45 Przerwa kawowa
 \n15.45 – 18.30 Moduł III – Stomatologiczny druk 3D jako element protokołó
 w cyfrowych\n\nwprowadzenie do technologii\nwspółczesne zastosowanie druku
  3D bezpośrednio w gabinecie stomatologicznym\nmożliwości\, opcje\, warunk
 i\, ograniczenia\nBHP druku 3D i stosowania żywic w gabinecie stomatologio
 cznycznym\nWARSZTAT PRAKTYCZNEGO DRUKU 3D – interaktywny pokaz samodzielne
 go druku 3D jako finalnego elementu w cyfrowym przepływie pracy w gabineci
 e stomatologicznym (z udziałem uczestników szkolenia)\n\nNa szkoleniu Dent
 al Digital Start\n\npoznasz najnowsze technologie cyfrowe obejmujące skano
 wanie wewnątrzustne\, zasady projektowania CAD/CAM i stomatologicznego dru
 ku 3D\nnauczysz się praktycznej obsługi skanera wewnątrzustnego i procesu 
 druku 3D w zakresie podstawowym\notrzymasz odpowiednią wiedzę i przeszkole
 nie pozwalające na samodzielną obsługę cyfrowego przepływu pracy między sk
 anerem wewnąrzustnym\, projektowaniem CAD i dentystycznym drukiem 3D\notrz
 ymasz „know how” zastosowania projektowania w przepływie pracy między skan
 erem\, a drukarką (dostępne rozwiązania oprogramowania\, projektowanie w g
 abinecie lub projektowanie na zewnątrz\, wstęp do samodzielnego projektowa
 nia)\notrzymasz wiedzę z zakresu praktycznego wykorzystywania cyfrowych te
 chnologii w swojej praktyki oraz porady pozwalające na dokonanie świadomyc
 h i optymalnych inwestycji\ndowiesz się jak usamodzielnić swoją praktykę i
  ograniczyć transfer prac protetycznych do zewnętrznych laboratoriów oszcz
 ędzając tym samym czas i finanse\n\nKażdy uczestnik otrzymuje\n\nkompendiu
 m wiedzy obejmujące tematykę szkolenia\ncertyfikat ukończenia szkolenia\n
 \nProwadzący:\nLic. tech. dent. Przemysław Grabowski – projektowanie CAD/C
 AM\, druk 3D\nMgr Kacper Włodarek – Druk 3D\nŁukasz Markiewicz - skanery w
 ewnątrzustne\nWsparcie merytoryczne:\nCyprian Seliga\nPatronat: \nDental M
 achines - www.dentalmachines.pl\n\nSyntegre – www.syntegre.com\n \n\nZapis
 y i informacje:\nAleksandra Kowalińska\, +48 509 912 963\, prenumerata@sps
 media.pl\nPŁATNOŚCI:\nProsimy kwotę za szkolenie wpłacić na konto:\n31 109
 0 1870 0000 0001 3335 2731\nSPS-Piotr Szymański\nZ. Modzelewskiego 67/4\n0
 2-679 Warszawa\n \nNa podstawie otrzymanej płatności otrzymają Państwo fak
 turę na maila\, z którego nastąpiła rejestracja na szkolenie.\n\nCena za k
 urs nie obejmuje noclegu. Nocleg należy zarezerwować indywidualnie w hotel
 u (tel. 22 574 20 00). Na hasło Zjazd Lekarzy Dentystów hotel udziela zniż
 ki na noclegi.\n
DTSTART:20251207T100000Z
DTEND:20251207T183000Z
GEO:00;0
LOCATION:Aleja Krakowska 218\, 02-219 Warszawa
ORGANIZER;CN=:prenumerata@spsmedia.pl
SEQUENCE:1
SUMMARY:Dental Digital Start - Wprowadzenie do stomatologii cyfrowej. Szkol
 enie z warsztatami praktycznymi  - edycja #6
TRANSP:OPAQUE
URL:https://szkolastomatologii.pl/historia-szkolen/71-dental-digital-start-
 wprowadzenie-do-stomatologii-cyfrowej-szkolenie-z-warsztatami-praktycznymi
END:VEVENT
END:VCALENDAR
