BEGIN:VCALENDAR
VERSION:2.0
PRODID:-//szkolastomatologii.pl//NONSGML kigkonsult.se iCalcreator 2.30.10/
 /
CALSCALE:GREGORIAN
METHOD:PUBLISH
UID:4c00de3d-9eeb-4aa4-96b4-4112f6c4ab6b
X-WR-CALNAME:iCagenda
X-WR-CALDESC:Event Management Extension for Joomla!
X-WR-RELCALID:3E26604A-50F4-4449-8B3E-E4F4932D05B5
X-WR-TIMEZONE:UTC
BEGIN:VTIMEZONE
TZID:UTC
END:VTIMEZONE
BEGIN:VEVENT
UID:bef91712-b731-498d-b6a3-a8bfbb27b259
DTSTAMP:20260421T123428Z
CATEGORIES:RATOWNICTWO MEDYCZNE
CLASS:PUBLIC
DESCRIPTION;ALTREP="CID:<FFFF__=0ABBE548DFE235B58f9e8a93d@coffeebean.com>":
 Prowadzący: lek. anestezjolog Adam M. Pietrzak\, ratownik medyczny Michał 
 Ewertowski (ćwiczenia)\, mgr Barbara Werpachowska – pielęgniarka\, Michał 
 Pyka – ratownik medyczny\, specjalista w zakresie defibrylatorów.\nMiejsce
 : Hotel Lord\, Warszawa Al. Krakowska 218\nPunkty edukacyjne: 8 pkt.\nCena
 : 570 zł.\n\nSzkolenie z pierwszej pomocy dla pracowników (lekarzy\, asyst
 entek\, higienistek\, recepcjonistek) gabinetów stomatologicznych i nie ty
 lko.\nNa szkolenie\, choć z założenia jest ono zorientowane na gabinet sto
 matologiczny\, zapraszamy lekarzy i pracowników medycznych wszystkich spec
 jalności. W pierwszej części – wykładowej\, zostaną omówione wszelkie proc
 edury postępowania z osobą\, której należy udzielić pierwszej pomocy. Zost
 aną omówione róże sytuacje i specyficzne sposoby postępowania.\nW drugiej 
 części szkolenia – praktycznej\, uczestnicy będą się szkolić z udzielania 
 pierwszej pomocy na manekinach. Pod okiem ratowników medycznych nauczą się
 : resuscytacji krążeniowo-oddechowa\, używania defibrylatora\, zakładania 
 dostępu naczyniowego do żył obwodowych\, stosowania tlenoterapii\, a także
  zarządzania sytuacją kryzysową oraz kierowania zespołem.\nSzkolenie przyg
 otowane na podstawie standardów i procedur występujących w gabinetach stom
 atologicznych.\n9.00 – 13.00 Teoria (Wykłady)\n\nZarządzanie sytuacją kryz
 ysową w gabinecie - psycholog mgr Kinga J. Karczewska.\nPrzygotowanie do s
 tanów nagłych w gabinecie - anestezjolog Adam M. Pietrzak.\nSpektrum uzale
 żnień od substancji psychoaktywnych w praktyce stomatologicznej -anestezjo
 log Adam M. Pietrzak.\nSedacja Midazolamem w stomatologii pediatrycznej\, 
 doświadczenia własne - anestezjolog Adam M. Pietrzak.\n\n13.00 – 14.00 LUN
 CH\n14.00 – 18.00 Ćwiczenia - blok warsztatów praktycznych\n\nResuscytacja
  krążeniowo-oddechowa - warsztaty praktyczne (BLS/AED).\nPrawidłowe zakład
 anie dostępu naczyniowego do żył obwodowych – warsztaty praktyczne.\nAutom
 atyczny defibrylator AED - Defibrylacja – warsztaty praktyczne.\nTlenotera
 pia bierna i czynna.\n\nKażdy z uczestników przejdzie przez praktyczne szk
 olenie w każdym z powyższych zagadnień.\nNauczysz się:\n\nPraktycznych czy
 nności ratujących życie.\nPrzezwyciężysz swoje obawy dotyczące pomagania i
 nnym.\nDzięki charakteryzacji teatralnej oswoisz się z tym\, co możesz zob
 aczyć na miejscu zdarzenia.\nSpecjalnie opracowane ćwiczenia przygotują Ci
 ę do działań związanych z zarządzaniem współpracownikami w trakcie zdarzen
 ia.\nPoznasz procedury postępowania w razie zagrożenia zdrowia lub życia\,
  mające zastosowanie w Twojej przychodni.\nUmiejętności\, które zdobędzies
 z\, są zgodne z najnowszą wiedzą i wytycznymi Europejskiej Rady Resuscytac
 ji.\nDostaniesz certyfikat potwierdzający zdobyte umiejętności.\n\nProgram
 :\n\nProcedury udzielania pierwszej pomocy w przychodni stomatologicznej\;
 \nBezpieczeństwo własne\;\nOcena i zarządzanie miejscem zdarzenia\;\nWezwa
 nie pomocy\, zarządzanie pracownikami przychodni\;\nOcena stanu poszkodowa
 nego - ABCD\;\nUciskanie klatki piersiowej i sztuczne oddychanie u dorosły
 ch i dzieci\n(Resuscytacja Krążeniowo-Oddechowa)\;\nAED – automatyczny def
 ibrylator zewnętrzny\;\nStany nagłe w stomatologii – wstrząs anafilaktyczn
 y\, atak serca\, udar mózgu\, epilepsja\, cukrzyca\, astma\, zakrztuszenia
 \, omdlenia\;\nUrazy - rany\, krwotoki\, złamania\, urazy czaszkowo-mózgow
 e\, porażenia prądem\, poparzenia\;\nWspółpraca ze służbami ratunkowymi\;
 \nLeki w gabinecie stomatologicznym\;\nZestaw przeciwwstrząsowy\;\nPrawne 
 aspekty udzielania pierwszej pomocy.\n \nCena zawiera: wykłady\, przerwy k
 awowe\, lunch.\nCena nie zawiera opłat za nocleg. Noclegi prosimy rezerwow
 ać indywidualnie w hotelu LORD. Na hasło Zjazd Dentystów otrzymają Państwo
  specjalny rabat. Rezerwacja: +48 22 574 20 00.\n\n\nZapisy i informacje:
 \nAleksandra Kowalińska\, +48 509 912 963\, prenumerata@spsmedia.pl\nPŁATN
 OŚCI:\nProsimy kwotę za szkolenie wpłacić na konto:\n31 1090 1870 0000 000
 1 3335 2731\nSPS-Piotr Szymański\nZ. Modzelewskiego 67/4\n02-679 Warszawa
 \nNa podstawie otrzymanej płatności otrzymają Państwo fakturę na maila\, z
  którego nastąpiła rejestracja na szkolenie.\n\nCena za kurs nie obejmuje 
 noclegu. Nocleg należy zarezerwować indywidualnie w hotelu (tel. 22 574 20
  00). Na hasło Zjazd Lekarzy Dentystów hotel udziela zniżki na noclegi.
DTSTART:20251206T090000Z
DTEND:20251206T180000Z
GEO:+52.186707;+20.955709
LOCATION:Hotel Lord\, Warszawa\, Al. Krakowska 218
ORGANIZER;CN=:prenumerata@spsmedia.pl
SEQUENCE:1
SUMMARY:Szkolenie z ratownictwa medycznego dla stomatologów
TRANSP:OPAQUE
URL:https://szkolastomatologii.pl/historia-szkolen/76-ratownictwo-medyczne-
 dla-stomatologow
END:VEVENT
END:VCALENDAR
