BEGIN:VCALENDAR
VERSION:2.0
PRODID:-//szkolastomatologii.pl//NONSGML kigkonsult.se iCalcreator 2.30.10/
 /
CALSCALE:GREGORIAN
METHOD:PUBLISH
UID:fb8b9f3a-ae10-4df7-966c-5e761b8e6321
X-WR-CALNAME:iCagenda
X-WR-CALDESC:Event Management Extension for Joomla!
X-WR-RELCALID:3E26604A-50F4-4449-8B3E-E4F4932D05B5
X-WR-TIMEZONE:UTC
BEGIN:VTIMEZONE
TZID:UTC
END:VTIMEZONE
BEGIN:VEVENT
UID:4d0a01c0-beea-4c61-b5c4-6bdfa585a0ec
DTSTAMP:20260421T123559Z
CATEGORIES:LECZENIE NAKŁADKAMI
CLASS:PUBLIC
DESCRIPTION;ALTREP="CID:<FFFF__=0ABBE548DFE235B58f9e8a93d@coffeebean.com>":
 Temat: „Pierwszy Aligner” - Jak samodzielnie leczyć nakładkami pacjentów d
 orosłych?\nProwadząca: dr n. med. lek. dent. Agnieszka Czechumska\nCena: 2
 090 zł\nPunkty edukacyjne: 7 pkt\nGodz.: 9:30 – 18:30\nPlan szkolenia:\n9:
 00-9:30 rejestracja uczestników\n9:30-11:00 - Odpowiedzi na intrygujące py
 tania dotyczące pojęć i zasad efektywnej pracy nakładkami\n \n\nDlaczego w
 arto leczyć pacjentów nakładkami?\nJak osiągnąć sukces kliniczny oraz bizn
 esowy w leczeniu alignerami?\nJakie są trendy w cyfrowej stomatologii?\nJa
 k działają nakładki?\nJakie są wskazania i przeciwwskazania do leczenia na
 kładkami?\n\n \n11:00 - 11:15 Przerwa kawowa\n11:15- 13:00 Selekcja pacjen
 ta\, zasady tworzenia i akceptowania Cyfrowego Planu Leczenia \n \n\nSelek
 cja pacjentów do estetycznych i przedprotetycznych leczeń nakładkami.\nPrz
 ykłady leczeń nakładkami np. przed: bondingiem\, protetyką\, implantoprote
 tyką.\nPrzykłady oprogramowania w których tworzone są Cyfrowe Plany Leczen
 ia Nakładkami\, różnych firm dostępnych na naszym rynku.\nUniwersalne zasa
 dy akceptowania Cyfrowego Planu Leczenia (każdej firmy nakładkowej).\n\n 
 \n13:00 - 14:00 Lunch\n14:00 - 15: 30 Fundamenty leczenia nakładkami \n \n
 \nAttachamenty w leczeniu nakładkami\, czyli dlaczego naczepy są tak ważne
 ?\nJak nakleić attachamenty szybko\, tanio i dobrze?\nJakie są techniki wy
 konania strippingu zębów (IPR)?\nJakie są dostępne w Polsce narzędzia ręcz
 ne i mechaniczne do IPR?\nPrzykłady technik podstawowych i zaawansowanych.
 \nJak zakończyć leczenie?\nJaką procedurę retencji zastosować?\n\n \n15:30
  - 17:00 Ekonomia i prawo związane z leczeniem nakładkami\n \n\nPraktyczne
  rady związane z tworzeniem biznesplanu leczenia nakładkami.\nWysokość fak
 tur za pakiety leczeń nakładkami a cena za pojedynczy aligner.\nWspółpraca
  z marką nakładkową\, czy produkcja alignerów w gabinecie?\nJak wycenić le
 czenie nakładkami?\nJak uzyskać wsparcie w leczeniu nakładkami np. przy tw
 orzeniu Cyfrowych Planów Leczenia?\nPrawo obowiązujące w Polsce dotyczące 
 pacjentów stomatologicznych.\n\n \n17:15 -18:30 Konsultacje indywidualne u
 czestników z dr Agnieszką Czechumską:\n\nPomoc w rozwiązaniu trudności pod
 czas leczenia swoich pacjentów\nAnaliza Cyfrowych Planów Leczenia\nRekomen
 dacje\nSprawdzone rady\n\n\nDla kogo jest to niezbędnie wskazane szkolenie
 ?\nSzkolenie przeznaczone jest dla :\n\ndentysty\, protetyka i ortodonty\,
  który zastanawia się czy warto leczyć nakładkami swoich pacjentów.\nstoma
 tologów\, którzy zastanawiają się jakie korzyści może przynieść im leczeni
 e tą metodą.\nkażdego lekarza\, który wyleczył niewielką ilość pacjentów m
 etodą nakładkową.\nklinicystów\, chcących uzyskać podpowiedzi do lepszej p
 racy nakładkami np. jak pozyskać więcej pacjentów\, jak łatwiej i więcej z
 arabiać?\n\n \n\nCena za kurs nie obejmuje noclegu. Nocleg należy zarezerw
 ować indywidualnie w hotelu (tel. 22 574 20 00).\nInformacje i zapisy:Alek
 sandra Kowalińska\, +48 509 912 963\, prenumerata@spsmedia.pl\nPŁATNOŚCI:P
 rosimy kwotę za szkolenie wpłacić na konto:31 1090 1870 0000 0001 3335 273
 1SPS-Piotr SzymańskiZ. Modzelewskiego 67/402-679 Warszawa\nNa podstawie ot
 rzymanej płatności otrzymają Państwo fakturę na maila\, z którego nastąpił
 a rejestracja na szkolenie.
DTSTART:20251206T120800Z
DTEND:20251206T183000Z
GEO:+52.186707;+20.955709
LOCATION:Aleja Krakowska 218\, 02-219 Warszawa
ORGANIZER;CN=:prenumerata@spsmedia.pl
SEQUENCE:1
SUMMARY:„Pierwszy Aligner” - Jak samodzielnie leczyć nakładkami pacjentów d
 orosłych?
TRANSP:OPAQUE
URL:https://szkolastomatologii.pl/historia-szkolen/84-pierwszy-aligner-jak-
 samodzielnie-leczyc-nakladkami-pacjentow-doroslych
END:VEVENT
END:VCALENDAR
