BEGIN:VCALENDAR
VERSION:2.0
PRODID:-//szkolastomatologii.pl//NONSGML kigkonsult.se iCalcreator 2.30.10/
 /
CALSCALE:GREGORIAN
METHOD:PUBLISH
UID:1237a303-c7b0-4338-93bd-552667ae3e33
X-WR-CALNAME:iCagenda
X-WR-CALDESC:Event Management Extension for Joomla!
X-WR-RELCALID:3E26604A-50F4-4449-8B3E-E4F4932D05B5
X-WR-TIMEZONE:UTC
BEGIN:VTIMEZONE
TZID:UTC
END:VTIMEZONE
BEGIN:VEVENT
UID:af1be21a-5fb8-4ac0-aaad-91ec72429d2b
DTSTAMP:20260421T123136Z
CATEGORIES:ODBUDOWA ESTETYCZNA
CLASS:PUBLIC
DESCRIPTION;ALTREP="CID:<FFFF__=0ABBE548DFE235B58f9e8a93d@coffeebean.com>":
 Temat: Technika iniekcyjna kompozytu i jej zastosowanie w podniesieniu zwa
 rcie i technikach full mouth rehabilitation\nProwadzący: lek. dent. Daniel
  Nowakowski\nTermin: 6 grudnia 2025 r.\nCena: 980 zł\;\n Punkty edukacyjne
 : 6 pkt.\nMiejsce: Hotel Lord\, Warszawa\, Al. Krakowska 218\n\nAgenda szk
 olenia\n10:00 - 11:30 Wykład: \n\nPodstawowe pojęcia z zakresu adhezji\nK
 ompozyt - czy jest to najlepszy dostępny materiał – wady i zalety\nProtok
 oły naprawy wewnątrzustnej uzupełnień kompozytowych i z ceramiki hybrydo
 wej\n\n11:30 - 11:45 Przerwa kawowa\n11:45 - 13:15 Wykład\n\nTechnika inie
 kcyjna zastosowanie – Kiedy warto\, a w jakich sytuacjach nie warto jej uz
 ̇yć\nMateriały stomatologiczne w technice iniekcyjnej\nWax-up klucz do pr
 awidłowej odbudowy\nŚwiat cyfrowy i analogowy - protokoły pracy z wyciska
 mi i skanerem wewnątrzustnym.\n\n13:15 - 14:00 Lunch\n14:00 - 15:30 Wykła
 d\n\nIndeks silikonowy Jak go wykonać i jak ocenić jakość jego wykonan
 ia\nOdbudowa – Krok po kroku w technice klasycznej i naprzemiennej\nPolero
 wanie i charakteryzacja prac - sposoby indywidualizacji\nRecall - na co zw
 rócić uwagę przy wizytach kontrolnych\n\n15:30-15:45 Przerwa kawowa\n15:
 45-17:15 Pokaz praktyczy\n\nPokaz praktyczny odbudowy pełnołukowej w techn
 ice injekcyjnej z elementami charakteryzacji indywidualnej pracy.\n\n\nSzc
 zegółowych informacji udziela Aleksandra Kowalińska tel. +48 509 912 963  
 w godz. 9:00-16:00.\nCena za kurs nie obejmuje noclegu. Nocleg należy zare
 zerwować dodatkowo - w tej sprawie prosimy o kontakt z p. Aleksandrą Kowal
 ińską\nOpłatę za kurs proszę wnieść na podstawie faktury proforma\, którą 
 Państwo otrzymają po wypełnieniu zgłoszenia.\nINFORMACJE I ZAPISY:Aleksand
 ra Kowalińska\, +48 509 912 963\, prenumerata@spsmedia.pl\nKonto\, na któr
 e należy wpłacić należność za kurs to:\nPŁATNOŚCI:Prosimy kwotę za szkolen
 ie wpłacić na konto:31 1090 1870 0000 0001 3335 2731SPS-Piotr SzymańskiZ. 
 Modzelewskiego 67/402-679 Warszawa
DTSTART:20251206T100000Z
DTEND:20251206T173000Z
GEO:+52.186707;+20.955709
LOCATION:Hotel Lord\, Warszawa\, Al. Krakowska 218
ORGANIZER;CN=:prenumerata@spsmedia.pl
SEQUENCE:1
SUMMARY:Technika iniekcyjna kompozytu i jej zastosowanie w podniesieniu zwa
 rcie i technikach full mouth rehabilitation
TRANSP:OPAQUE
URL:https://szkolastomatologii.pl/historia-szkolen/85-technika-iniekcyjna-k
 ompozytu
END:VEVENT
END:VCALENDAR
