BEGIN:VCALENDAR
VERSION:2.0
PRODID:-//szkolastomatologii.pl//NONSGML kigkonsult.se iCalcreator 2.30.10/
 /
CALSCALE:GREGORIAN
METHOD:PUBLISH
UID:e79c4d5d-70c5-48cc-8fe2-ddd34451b145
X-WR-CALNAME:iCagenda
X-WR-CALDESC:Event Management Extension for Joomla!
X-WR-RELCALID:3E26604A-50F4-4449-8B3E-E4F4932D05B5
X-WR-TIMEZONE:UTC
BEGIN:VTIMEZONE
TZID:UTC
END:VTIMEZONE
BEGIN:VEVENT
UID:7b53ab5b-880f-4796-98da-414d7f2dad31
DTSTAMP:20260421T142232Z
CATEGORIES:STOMATOLOGIA ZACHOWAWCZA
CLASS:PUBLIC
DESCRIPTION;ALTREP="CID:<FFFF__=0ABBE548DFE235B58f9e8a93d@coffeebean.com>":
 Prowadzący: dr hab. n. med. i n. o zdr. Rafał Wiench\nCena: 2960 zł\nTermi
 n: 07.11.2025  \nMiejsce: ul. Kołodzieja 8\, 40-749 Katowice \n \nKurs prz
 ygotowuje uczestnika do samodzielnego używania laserów i przeprowadzeniem 
 prawidłowego planu leczenia z ich wykorzystaniem.\n \nPlan szkolenia: \nWp
 rowadzenie do świata laserów\n\nnatura światła\,\nbudowa i zasady działani
 a lasera\npodstawowe typy i klasyfikacje laserów\,\nkrótka historia laseró
 w\,\noddziaływanie światła laserowego na tkanki biologiczne.\n\n2. Fotobio
 modulacja (FBM) \n\ndefinicja FBM\,\nmechanizm działania FBM (efekt pierwo
 tny i wtórny)\,\njak ustawiać parametry fizyczne lasera\, aby wywołać zami
 erzone reakcje biologiczne (analiza krzywej Arndta-Schultza)\,\njak pracow
 ać laserem fotobiomodulującym – podstawowe zasady maksymalnego stopnia sku
 teczności\,\ndlaczego należy zawsze zakładać okulary ochronne\,\ndlaczego 
 FBM nie jest bezpieczna we wszystkich sytuacjach klinicznych.\n\n3. Fotobi
 omodulacja (FBM) część praktyczna\n\nFBM: nadżerek\, aft\, opryszczki\, ra
 n poekstrakcyjnych\,\nFBM ran po zabiegach chirurgicznych\,\nFBM schorzeń 
 martwiczych w przyzębiu\,\nFBM tkanki kostnej.1.\n\n4. Wykorzystanie laser
 ów w chirurgii periodontologicznej\n\nprocedura LANAP – laser assisted new
  attachment procedure\,\nusuwanie zmian egzofitycznych (włókniak\, brodawc
 zak\, ziarniniak szczelinowaty)\,\ngingiwektomia laserowa\,\nwycinanie węd
 zidełek\,\n\n5. Wykorzystanie terapii fotodynamicznej w periodontologii\n
 \nmechanizmy działania PDT\,\nzasady prowadzenia\,\naPDT skierowane przeci
 wko HSV\,\naPDT skierowane przeciwko Candida oraz\naPDT w periodontopatiac
 h i periimplantitis\,\nPDT w leczeniu liszaja płaskiego.\n\n6. Laserowe us
 uwania malformacji naczyniowych\n\nzasady usuwania zmian typu malformacji 
 naczyniowej\,\ntechniki usuwania malformacji naczyniowej\,\ndobór lasera d
 o wybranej techniki usunięcia malformacji naczyniowej\nprezentacja przypad
 ków usuwania malformacji naczyniowej zlokalizowanej w różnych rejonach jam
 y ustnej\n\n7. Laserowe wybielanie zębów i leczenie nadwrażliwości zębiny
 \n8.Wykorzystanie zjawiska autofluroscenji do diagnostyki chorób przednowo
 tworowych laserem 405 nm\n\nPROWADZĄCY: \n\n\n\n\n\ndr hab. n. med. i n. o
  zdr. Rafał Wiench\nRafał Wiench jest doświadczonym stomatologiem\, specja
 lizującym się w periodontologii. Jego bogate doświadczenie zawodowe oraz o
 siągnięcia naukowe czynią go cenionym specjalistą w swojej dziedzinie. Wyk
 ształcenie:\n\nStudia: Śląska Akademia Medyczna\, Wydział Lekarski\, Oddzi
 ał Stomatologiczny w Zabrzu.\nStudia podyplomowe: European Master’s Degree
  in Oral Laser Applications (EMDOLA) we Wrocławiu.\n\nDoświadczenie zawodo
 we:\n\nPrace naukowe:\n\nDoktorat z medycyny na temat cytokin w stanach za
 palnych dziąseł i przyzębia.\nHabilitacja z zakresu periodontologii\, doty
 cząca wykorzystania antybakteryjnej terapii fotodynamicznej.\nLiczne publi
 kacje naukowe w renomowanych czasopismach.\n\n\nPraktyka kliniczna:\n\nKie
 rownik NZOZ Wident w Zawadzkiem.\nAdiunkt w Zakładzie Chorób Przyzębia i B
 łon Jamy Ustnej.\nProwadzenie zajęć dydaktycznych dla studentów stomatolog
 ii.\n\n\n\nSpecjalizacje:\n\nPeriodontologia\nChoroby błon śluzowych\nGero
 stomatologia\nFarmakologia kliniczna\n\nZainteresowania naukowe:\n\nAntyba
 kteryjna terapia fotodynamiczna\nCytokiny w stanach zapalnych dziąseł i pr
 zyzębia\n\nOsiągnięcia:\n\nTytuł doktora habilitowanego nauk medycznych i 
 nauk o zdrowiu.\nWyróżnienie za pracę doktorską przyznane przez JM Rektora
  Śląskiej Akademii Medycznej w Katowicach.\nSpecjalizacja w zakresie perio
 dontologii z oceną bardzo dobrą.\n\nRafał Wiench jest cenionym specjalistą
  w dziedzinie periodontologii\, który łączy w sobie wiedzę teoretyczną z b
 ogatym doświadczeniem praktycznym. Jego pasja do stomatologii oraz ciągły 
 rozwój naukowy sprawiają\, że jest on cennym członkiem społeczności stomat
 ologicznej.\n\n\n\n\n \n
DTSTART:20251107T131100Z
DTEND:20251107T180000Z
GEO:00;0
LOCATION:ul. Kołodzieja 8\, 40-749 Katowice 
ORGANIZER;CN=:prenumerata@spsmedia.pl
SEQUENCE:1
SUMMARY:Wykorzystanie laserów w stomatologii
TRANSP:OPAQUE
URL:https://szkolastomatologii.pl/historia-szkolen/89-wykorzystanie-laserow
 -w-stomatologii
END:VEVENT
END:VCALENDAR
