BEGIN:VCALENDAR
VERSION:2.0
PRODID:-//szkolastomatologii.pl//NONSGML kigkonsult.se iCalcreator 2.30.10/
 /
CALSCALE:GREGORIAN
METHOD:PUBLISH
UID:cf95b75f-cf02-4363-b076-3efb1e85fe29
X-WR-CALNAME:iCagenda
X-WR-CALDESC:Event Management Extension for Joomla!
X-WR-RELCALID:3E26604A-50F4-4449-8B3E-E4F4932D05B5
X-WR-TIMEZONE:UTC
BEGIN:VTIMEZONE
TZID:UTC
END:VTIMEZONE
BEGIN:VEVENT
UID:701de0bb-5031-48e5-a2fe-11c6de04f134
DTSTAMP:20260421T142737Z
CATEGORIES:ENDODONCJA
CLASS:PUBLIC
DESCRIPTION;ALTREP="CID:<FFFF__=0ABBE548DFE235B58f9e8a93d@coffeebean.com>":
 Temat: Drugie 'życie' martwego zęba\, powtórne leczenie endodontyczne zach
 owawcze i chirurgiczne. Praktycy\, praktykom...\nKierownik medyczny kursu:
  dr n.med. Aleksandra Palatyńska-Ulatowska\nPrelegenci: dr n. med. Aleksan
 dra Palatyńska-Ulatowska\, lek. dent. Bartłomiej Karaś\, lek. dent. Witold
  Popowicz\nPunkty edukacyjne: 6 pkt.\nCena: 990 zł\nTermin: 9 grudnia 2023
  r. 10.00- 17.30.\nMiejsce: Warszawa\, Hotel Lord Al. Krakowska 218\nPrele
 genci nie promują żadnej firmy sprzedającej narzędzia czy materiały. Wszys
 tkie prezentowane przypadki pochodzą ich praktyk.\nSzczegółowy plan sesji
 \n9:00-10:00 Rejestracja uczestników\n10:00-11:30 lek. dent. Bartłomiej Ka
 raś – Niechirurgiczne leczenie ponowne\n\ndiagnostyka RTG\, CBCT\, badanie
  kliniczne – najważniejsze aspekty w podejmowaniu decyzji o leczeniu ponow
 nym\nwykonanie dostępu do leczenia ponownego – usuwanie przeszkód w leczen
 iu ponownym takich\, jak korony\, wkłady z włókna szklanego\ndezobturacja 
 w zależności od rodzaju materiału wypełniającego kanały\ndezynfekcja leczo
 nej przestrzeni – koncepcja czystości systemu kanałów korzeniowych\nobtura
 cja w zależności od warunków klinicznych\n\n11:30-12:00 Przerwa kawowa\n12
 :00-13:30 lek. dent. Witold Popowicz – Endo-chirurgiczne leczenie ponowne
 \n\nwskazania i diagnostyka w powtórnym leczeniu endo-chirurgicznym\nuwaru
 nkowania paradontologiczne dojścia chirurgicznego do strefy okołokorzeniow
 ej\nkluczowe etapy wpływające na sukces leczenia\n\n13:30-14:30 Przerwa ob
 iadowa\n14:30-15:15 dr n. med. Aleksandra Palatyńska-Ulatowska - Biomimety
 ka w endodoncji. Rola bioaktywnych materiałów odtwórczych w praktyce.\n\nP
 ojęcia biomimetyki\, materiałów bioinertnych\, bioresorbowalnych i bioakty
 wnych. Podział cementów hydraulicznych w zależności od kontekstu kliniczne
 go\, zastosowania\, składu chemicznego i formy\nWybór materiału w zależnoś
 ci od przeprowadzanej procedury leczenia endodontycznego.\nPraktyczne aspe
 kty pracy cementami bioceramicznymi - zalety\, wady\, ograniczenia.\n\n15:
 15-15:45 lek. dent. Bartłomiej Karaś – Powikłania w leczeniu endodontyczny
 m\n\nusuwanie złamanych instrumentów – diagnostyka \,decyzje\, metody\nper
 foracje – podział ze względu na miejsce\, rokowanie\, diagnostyka\, metody
  i materiały zaopatrywania poszczególnych rodzajów perforacji\n\n15:45-16:
 15 lek. dent. Witold Popowicz – Powikłania i ograniczenia w leczeniu endo-
 chirurgicznym\n\nograniczenia biomechaniczne i anatomiczne w leczeniu endo
 -chirurgicznym\ntypowe powikłania w leczeniu endo-chirurgicznym\n\n16:15-1
 6.30 Przerwa kawowa\n16:30-17.30  dr n. med. Aleksandra Palatyńska-Ulatows
 ka\,  lek. dent. Bartłomiej Karaś\, lek. dent. Witold Popowicz – Podejmowa
 nie decyzji przy wyborze metod leczenia re-endo vs endochrurgia\n\nCena za
  kurs nie obejmuje noclegu. Nocleg należy zarezerwować indywidualnie w hot
 elu (tel. 22 574 20 00). Na hasło Zjazd Lekarzy Dentystów hotel udziela zn
 iżki na noclegi.\nOpłatę za kurs proszę wnieść na podstawie faktury profor
 ma\, którą Państwo otrzymają po wypełnieniu zgłoszenia. Konto\, na które n
 ależy wpłacić należność za kurs to:\nSPS - Piotr Szymański numer: 31 1090 
 1870 0000 0001 3335 2731\nSzczegółowych informacji udziela Aleksandra Kowa
 lińska tel. +48 509 912 963  w godz. 9:00-16:00.
DTSTART:20231209T100000Z
DTEND:20231209T173000Z
GEO:+52.186707;+20.955709
LOCATION:Miejsce: Warszawa\, Hotel Lord ****\; al. Krakowska 218.
ORGANIZER;CN=:prenumerata@spsmedia.pl
SEQUENCE:1
SUMMARY:Drugie 'życie' martwego zęba - powtórne leczenie endodontyczne zach
 owawcze i chirurgiczne. Praktycy praktykom...
TRANSP:OPAQUE
URL:https://szkolastomatologii.pl/historia-szkolen/9-drugie-zycie-martwego-
 zeba-powtorne-leczenie-endodontyczne-zachowawcze-i-chirurgiczne-praktycy-p
 raktykom
END:VEVENT
END:VCALENDAR
