BEGIN:VCALENDAR
VERSION:2.0
PRODID:-//szkolastomatologii.pl//NONSGML kigkonsult.se iCalcreator 2.30.10/
 /
CALSCALE:GREGORIAN
METHOD:PUBLISH
UID:af1eb928-3a1d-4de5-accb-9e527fe23c8b
X-WR-CALNAME:iCagenda
X-WR-CALDESC:Event Management Extension for Joomla!
X-WR-RELCALID:3E26604A-50F4-4449-8B3E-E4F4932D05B5
X-WR-TIMEZONE:UTC
BEGIN:VTIMEZONE
TZID:UTC
END:VTIMEZONE
BEGIN:VEVENT
UID:ce036294-85c3-4299-a278-d9f2a41f2899
DTSTAMP:20260421T142428Z
CATEGORIES:IMPLANTOPROTETYKA
CLASS:PUBLIC
DESCRIPTION;ALTREP="CID:<FFFF__=0ABBE548DFE235B58f9e8a93d@coffeebean.com>":
 Prowadzący: Jakub Munk\nCena: 2960 zł\nTermin: 30-31.10.2025\nMiejsce: ul.
  Kołodzieja 8\, 40-749 Katowice \n \nKurs przeznaczony jest dla lekarzy st
 omatologów / lekarzy dentystów raczkujących w dziedzinie implantologii\, k
 tórzy chcieliby dodatkowo udoskonalić swoje umiejętności praktyczne w tym 
 zakresie. Szkolenie skierowane jest do lekarzy stomatologów / lekarzy dent
 ystów wszystkich specjalizacji.\n\nProgram Szkolenia\nDzień 1: Wprowadzeni
 e do Implantologii lek. dentysta Jakub Munk Blok Teoretyczny (9:00 - 13:00
 ):\n\nPodstawowa wiedza o implantach:\n\nHistoria implantologii.\nRodzaje 
 i typy implantów (materiały\, systemy).\nKomponenty systemu implantologicz
 nego (łączniki\, śruby gojące itp.).\n\n\nAseptyka w gabinecie stomatologi
 cznym:\n\nZasady aseptyki i antyseptyki.\nPrzygotowanie pola operacyjnego.
 \n\n\nPrzygotowanie gabinetu do zabiegu implantacji.\nWspółpraca z persone
 lem pomocniczym podczas zabiegów chirurgicznych:\n\nPodział ról i obowiązk
 ów.\nKomunikacja w zespole\n\n\n\n\nPrzygotowanie pacjenta i operatora do 
 zabiegu:\n\nMycie i dezynfekcja.\nUbranie i obłożenie pola operacyjnego.\n
 \n\nDobór sprzętu i narzędzi potrzebnych do implantacji:\n\nPrzegląd podst
 awowego instrumentarium chirurgicznego.\nWiertła implantologiczne - rodzaj
 e i zastosowanie.\n\n\nBadania diagnostyczne przed zabiegiem implantacji:
 \n\nWywiad i badanie kliniczne.\nDiagnostyka radiologiczna (RTG\, pantomog
 ram\, CBCT) - podstawy interpretacji\n\n\n. Premedykacja w implantologii:
 \n\nWskazania i przeciwwskazania.\nStandardowe protokoły premedykacji.\n\n
 \nKasety chirurgiczne:\n\nOpis i zasady organizacji.\nNauka obsługi i kons
 erwacji.\n\n\nProcedura wprowadzenia pojedynczego implantu:\n\nEtapy chiru
 rgiczne.\nTechniki preparacji łoża kostnego.\nUmieszczenie implantu.\nPost
 ępowanie pooperacyjne.\n\n\n\nWarsztaty - Ćwiczenia Praktyczne Hands-on (1
 4:00 - 17:00):\n\nWszczepienie implantu na fantomie:\n\nDemonstracja krok 
 po kroku procedury chirurgicznej.\nĆwiczenia praktyczne na modelach szczęk
  z zastosowaniem różnych typów implantów i wierteł.\nPrawidłowe pozycjonow
 anie implantu.\n\n\n\n\nDzień 2: PIC i SmartFlags - Planowanie i Nawigacja
  Implantologiczna Blok Teoretyczny (9:00 - 13:00):\n\nWprowadzenie do cyfr
 owej implantologii:\n\nZalety i możliwości cyfrowego planowania leczenia.
 \nSkanowanie wewnątrzustne i zewnątrzustne.\nOprogramowanie do planowania 
 implantologicznego.\n\n\nSystem PIC (Precision Implant Concept):\n\nZasada
  działania i komponenty systemu PIC.\nWykorzystanie PIC w planowaniu impla
 ntu.\nPrzenoszenie planu na pacjenta z wykorzystaniem szablonów chirurgicz
 nych PIC.\nPrecyzyjne pozycjonowanie implantu z kontrolą 3D.\nMożliwości p
 rotetyczne oparte na systemie PIC.\n\n\nSystem SmartFlags:\n\nZasada dział
 ania i komponenty systemu SmartFlags.\nIntegracja SmartFlags z obrazowanie
 m CBCT.\nWirtualne planowanie implantu z wykorzystaniem SmartFlags.\nNawig
 acja implantologiczna w czasie rzeczywistym.\nZwiększenie precyzji i bezpi
 eczeństwa zabiegu.\n\n\nPorównanie systemów PIC i SmartFlags:\n\nWskazania
  i przeciwwskazania do stosowania obu systemów.\nZalety i wady poszczególn
 ych rozwiązań.\nKryteria wyboru odpowiedniego systemu.\n\n\nIntegracja PIC
  i SmartFlags z innymi technologiami cyfrowymi:\nDruk 3D w implantologii (
 szablony chirurgiczne).\nCAD/CAM w protetyce implantologicznej.\n\nĆwiczen
 ia Praktyczne Hands-on (14:00 - 17:00):\n\nWirtualne planowanie implantów 
 z wykorzystaniem oprogramowania PIC i SmartFlags:\n\nImport danych DICOM i
  STL.\nWizualizacja struktur anatomicznych.\nPozycjonowanie wirtualnych im
 plantów.\nOcena ilości i jakości kości.\nPlanowanie protetyczne.\n\n\nSymu
 lacja zabiegu z wykorzystaniem szablonów chirurgicznych PIC:\nPrzymiarka s
 zablonu na modelu.\nWykorzystanie wierteł pilotowych i prowadzących z szab
 lonem. ● Omówienie przypadków klinicznych z wykorzystaniem PIC iSmartFlags
 .\n\n!! Warunkiem odbycia części praktycznej jest uczestnictwo w części te
 oretycznej kursu\n\nPROWADZĄCY:\n\n\nJakub Munk MDMaster in Oral Implantol
 ogy\nAbsolwent Śląskiego Uniwersytetu Medycznego w Katowicach. W latach 20
 08-2024 wykładał w Katedrze i Zakładzie Leczenia Dysfunkcji Narządu Żucia 
 w Zabrzu ŚUM. W 2004 roku odbył miesięczny staż na Katedrze Chirurgii Twar
 zowej w Monachium pod okiem prof. Horch’a gdzie zaczął swoją przygodę z Ch
 irurgią Stomatologiczną. Publikuje prace w czasopismach stomatologicznych 
 polskich i zagranicznych oraz bierze czynny udział w konferencjach krajowy
 ch i międzynarodowych. Wykładowca w ramach kursów z zakresu okluzji\, impl
 antoprotetyki. Wieloletni członek PTDNŻ\, członek PSI oraz członek Athenea
  Institute. Głównymi obszarami jego zainteresowań są: zaawansowana diagnos
 tyka pacjentów\, rehabilitacja narządu żucia\, leczenie dysfunkcji i paraf
 unkcji oraz zaawansowane odbudowy implantoprotetyczne i protetyczne. Prywa
 tnie podróżnik i ratownik GOPR. Windsurfer\, nurek i żeglarz.\n\n
DTSTART:20251030T133600Z
DTEND:20251031T190000Z
GEO:+50.198986;+19.053658
LOCATION:ul. Kołodzieja 8\, 40-749 Katowice
ORGANIZER;CN=:prenumerata@spsmedia.pl
SEQUENCE:1
SUMMARY:Precyzyjna Implantologia z wykorzystaniem Systemów PIC i SmartFlags
TRANSP:OPAQUE
URL:https://szkolastomatologii.pl/historia-szkolen/94-precyzyjna-implantolo
 gia-z-wykorzystaniem-systemow-pic-i-smartflags
END:VEVENT
END:VCALENDAR
