BEGIN:VCALENDAR
VERSION:2.0
PRODID:-//szkolastomatologii.pl//NONSGML kigkonsult.se iCalcreator 2.30.10/
 /
CALSCALE:GREGORIAN
METHOD:PUBLISH
UID:027bbb71-8647-4992-af83-830af8f0a297
X-WR-CALNAME:iCagenda
X-WR-CALDESC:Event Management Extension for Joomla!
X-WR-RELCALID:3E26604A-50F4-4449-8B3E-E4F4932D05B5
X-WR-TIMEZONE:UTC
BEGIN:VTIMEZONE
TZID:UTC
END:VTIMEZONE
BEGIN:VEVENT
UID:c3f92624-fbe9-415b-84f2-21680600b9a9
DTSTAMP:20260421T142259Z
CATEGORIES:CYFROWA STOMATOLOGIA 3D
CLASS:PUBLIC
DESCRIPTION;ALTREP="CID:<FFFF__=0ABBE548DFE235B58f9e8a93d@coffeebean.com>":
 Prowadzący: Jakub Munk\nCena: 2960 zł\nTermin: 15.11.2025\nMiejsce: ul. Ko
 łodzieja 8\, 40-749 Katowice \n \nUsługa przygotowuje uczestnika do samodz
 ielnego wykonania zabiegów laserowego usuwania zębów zatrzymanych. Po zako
 ńczeniu usługi uczestnicy będą wykonywać zaawansowane procedury chirurgicz
 ne z wykorzystaniem laserów\n \n\n\nOpis kursu\nCelem szkolenia jest teore
 tyczne i praktyczne przygotowanie uczestników do bezpiecznego i efektywneg
 o wykorzystania laserów w zabiegach usuwania zębów zatrzymanych\, z uwzglę
 dnieniem najnowszych technik i protokołów postępowania.\nKorzyści dla ucze
 stnika:\n\nZrozumienie podstaw fizyki laserów i ich interakcji z tkankami.
 \nPoznanie klasyfikacji zębów zatrzymanych i wskazań do ich laserowego usu
 nięcia.\nSzczegółowe omówienie anatomii jamy ustnej w kontekście chirurgic
 znym.\nNabycie praktycznych umiejętności w zakresie technik laserowego usu
 wania zębów zatrzymanych.\nZapoznanie się z zastosowaniem lasera w chirurg
 ii tkanek miękkich i twardych.\nOpanowanie technik formowania płata i szyc
 ia po zabiegu laserowym.\nPoznanie zasad opieki pozabiegowej u pacjentów p
 o laserowym usunięciu zęba.\nZrozumienie i praktyczne zastosowanie fotoakt
 ywnej dezynfekcji i biomodulacji laserowej.\nMożliwość obserwacji zabiegu 
 na żywo (live surgery).\nPraktyczne ćwiczenia na modelach fantomowych (war
 sztaty).\nMateriały szkoleniowe i certyfikat uczestnictwa.\n\nProgram Szko
 lenia: Laserowe Usuwanie Zębów Zatrzymanych\n \nCzęść Teoretyczna (około 4
  godzin)\n\nWprowadzenie do laseroterapii: „Laser to nie działa – czy na p
 ewno?” (45 min)\n\nPodstawy fizyki laserów stomatologicznych (rodzaje lase
 rów\, długości fal\, interakcja z tkankami).\nMity i fakty dotyczące skute
 czności laserów w stomatologii.\nBezpieczeństwo pracy z laserem – zasady i
  protokoły.\n\n\nKlasyfikacja zatrzymanych zębów (30 min)\n\nRóżne typy za
 trzymań (zęby mądrości\, kły\, inne).\nDiagnostyka radiologiczna i ocena p
 ozycji zęba zatrzymanego.\nWskazania i przeciwwskazania do chirurgicznego 
 usunięcia.\n\n\nAnatomia w ujęciu chirurgicznym – na co zwrócić uwagę (45 
 min)\n\nSzczegółowe omówienie struktur anatomicznych istotnych podczas zab
 iegu (nerwy\, naczynia krwionośne\, zatoki).\nTechniki znieczulenia miejsc
 owego w chirurgii zębów zatrzymanych.\nPlanowanie zabiegu z uwzględnieniem
  anatomii pacjenta\n\n\n\nTechniki zabiegowe (60 min)\n\nPorównanie tradyc
 yjnych metod chirurgicznych z technikami laserowymi.\n\nOmówienie różnych 
 technik laserowego dostępu do zęba zatrzymanego.\nWykorzystanie różnych ty
 pów końcówek laserowych.\nErgonomia pracy podczas zabiegu laserowego.\n\n
 \nZastosowanie lasera w chirurgii tkanki miękkiej i twardej (45 min)\n\nLa
 serowe nacinanie i modelowanie dziąsła.\nLaserowa osteotomia i odpreparowa
 nie kości.\nHemostaza i koagulacja laserowa.\nZmniejszenie bólu i obrzęku 
 pooperacyjnego dzięki laserowi.\n\n\nFormowanie płata i szycie (30 min)\n
 \nRodzaje płatów stosowanych w chirurgii zębów zatrzymanych.\nTechniki pre
 paracji płata z wykorzystaniem lasera i narzędzi tradycyjnych.\nMateriały 
 i techniki szewne.\n\n\nOpieka pozabiegowa (30 min)\n\nZalecenia dla pacje
 nta po laserowym usunięciu zęba zatrzymanego.\nPostępowanie w przypadku po
 wikłań.\nPorównanie gojenia po zabiegu laserowym i tradycyjnym.\n\n\nFotoa
 ktywna dezynfekcja (PAD) i Biomodulacja (30 min)\n\nMechanizm działania PA
 D i jej zastosowanie w chirurgii stomatologicznej.\nProtokokoły PAD po usu
 nięciu zęba zatrzymanego.\nBiomodulacja laserowa – działanie biostymulacyj
 ne i przeciwzapalne.\nPraktyczne zastosowanie biomodulacji w przyspieszeni
 u gojenia.\n\n\n\nCzęść Praktyczna (około 3 godzin)\nWarsztaty (90 min)\n
 \nĆwiczenia praktyczne na modelach fantomowych:\n\nLaserowe nacinanie i mo
 delowanie tkanek miękkich.\nSymulacja laserowej osteotomii.\nTechniki form
 owania płata.\nTechniki szycia.\nZastosowanie PAD i biomodulacji na modela
 ch.\n\n\n\nLive surgery (90 min)\n\nDemonstracja zabiegu laserowego usunię
 cia zęba zatrzymanego na żywo przez prowadzącego (jeśli warunki kliniczne 
 na to pozwolą).\nOmówienie krok po kroku procedury\, wskazań i przeciwwska
 zań.\nMożliwość zadawania pytań w trakcie zabiegu.\n\n \n\nPROWADZĄCY:\nJa
 kub Munk MDMaster in Oral Implantology\nAbsolwent Śląskiego Uniwersytetu M
 edycznego w Katowicach. W latach 2008-2024 wykładał w Katedrze i Zakładzie
  Leczenia Dysfunkcji Narządu Żucia w Zabrzu ŚUM. W 2004 roku odbył miesięc
 zny staż na Katedrze Chirurgii Twarzowej w Monachium pod okiem prof. Horch
 ’a gdzie zaczął swoją przygodę z Chirurgią Stomatologiczną. Publikuje prac
 e w czasopismach stomatologicznych polskich i zagranicznych oraz bierze cz
 ynny udział w konferencjach krajowych i międzynarodowych. Wykładowca w ram
 ach kursów z zakresu okluzji\, implantoprotetyki. Wieloletni członek PTDNŻ
 \, członek PSI oraz członek Athenea Institute. Głównymi obszarami jego zai
 nteresowań są: zaawansowana diagnostyka pacjentów\, rehabilitacja narządu 
 żucia\, leczenie dysfunkcji i parafunkcji oraz zaawansowane odbudowy impla
 ntoprotetyczne i protetyczne. Prywatnie podróżnik i ratownik GOPR. Windsur
 fer\, nurek i żeglarz.\n\n
DTSTART:20251115T134900Z
DTEND:20251115T190000Z
GEO:+50.198986;+19.053658
LOCATION:ul. Kołodzieja 8\, 40-749 Katowice
ORGANIZER;CN=:prenumerata@spsmedia.pl
SEQUENCE:1
SUMMARY:Laserowe usuwanie zębów zatrzymanych
TRANSP:OPAQUE
URL:https://szkolastomatologii.pl/historia-szkolen/97-laserowe-usuwanie-zeb
 ow-zatrzymanych
END:VEVENT
END:VCALENDAR
